BEGIN:VCALENDAR
VERSION:2.0
PRODID:-//Goldcrest Nature Tours - ECPv6.15.20//NONSGML v1.0//EN
CALSCALE:GREGORIAN
METHOD:PUBLISH
X-WR-CALNAME:Goldcrest Nature Tours
X-ORIGINAL-URL:https://goldcrestnaturetours.nl
X-WR-CALDESC:Evenementen voor Goldcrest Nature Tours
REFRESH-INTERVAL;VALUE=DURATION:PT1H
X-Robots-Tag:noindex
X-PUBLISHED-TTL:PT1H
BEGIN:VTIMEZONE
TZID:Europe/Amsterdam
BEGIN:DAYLIGHT
TZOFFSETFROM:+0100
TZOFFSETTO:+0200
TZNAME:CEST
DTSTART:20250330T010000
END:DAYLIGHT
BEGIN:STANDARD
TZOFFSETFROM:+0200
TZOFFSETTO:+0100
TZNAME:CET
DTSTART:20251026T010000
END:STANDARD
BEGIN:DAYLIGHT
TZOFFSETFROM:+0100
TZOFFSETTO:+0200
TZNAME:CEST
DTSTART:20260329T010000
END:DAYLIGHT
BEGIN:STANDARD
TZOFFSETFROM:+0200
TZOFFSETTO:+0100
TZNAME:CET
DTSTART:20261025T010000
END:STANDARD
BEGIN:DAYLIGHT
TZOFFSETFROM:+0100
TZOFFSETTO:+0200
TZNAME:CEST
DTSTART:20270328T010000
END:DAYLIGHT
BEGIN:STANDARD
TZOFFSETFROM:+0200
TZOFFSETTO:+0100
TZNAME:CET
DTSTART:20271031T010000
END:STANDARD
END:VTIMEZONE
BEGIN:VEVENT
DTSTART;TZID=Europe/Amsterdam:20260423T080000
DTEND;TZID=Europe/Amsterdam:20260503T170000
DTSTAMP:20260424T063447
CREATED:20251002T155759Z
LAST-MODIFIED:20251002T155801Z
UID:9297-1776931200-1777827600@goldcrestnaturetours.nl
SUMMARY:Vogelreis Bulgarije - rondreis 11 dagen
DESCRIPTION:Een unieke vogelreis – 11 dagen met kans op ca. 150-200 vogelsoorten \n\n\n\nOntdek het vogelparadijs Bulgarije\, waar Europa\, Azië en de Middellandse Zee samenkomen! Tijdens deze bijzondere vogelreis Bulgarije: Rhodopen tot de Donau en de Zwarte zee\, maak je kennis met een indrukwekkende mix van vogels uit uiteenlopende gebieden: van kleurrijke mediterrane soorten tot mysterieuze gasten uit de verre Siberische taiga. \n\n\n\nGids: Michel Kuijpers
URL:https://goldcrestnaturetours.nl/event/vogelreis-bulgarije-rondreis-11-dagen/
LOCATION:Schiphol\, Amsterdam\, Nederland
ATTACH;FMTTYPE=image/jpeg:https://goldcrestnaturetours.nl/wp-content/uploads/2025/03/rose-pelikaan.jpg
END:VEVENT
BEGIN:VEVENT
DTSTART;TZID=Europe/Amsterdam:20260424T080000
DTEND;TZID=Europe/Amsterdam:20260424T150000
DTSTAMP:20260424T063447
CREATED:20250313T151132Z
LAST-MODIFIED:20251120T163521Z
UID:8631-1777017600-1777042800@goldcrestnaturetours.nl
SUMMARY:Spechten én meer in Winterswijk
DESCRIPTION:Het Nationale Landschap Winterswijk doet zijn naam eer aan. Dit Oer Hollandse landschap is niet alleen erg fraai om te zien\, het is ook fantastisch voor de natuur. Planten\, insecten en vogels gedijen goed in het coulissen landschap met houtwallen\, heggen\, loofbossen\, hoogveenlandschap\, enz. Daar wordt je als natuurliefhebber blij van\, dus waar wacht je nog op. Ga mee op onze vogelexcursie Spechten in N.L.Winterswijk. We gaan op zoek naar vijf soorten Spechten én meer in Winterswijk.
URL:https://goldcrestnaturetours.nl/event/spechten-en-meer-in-winterswijk/
LOCATION:Nog nader te bepalen\, Ridderstraat 5\, Heenvliet\, 3218 VR\, Netherlands
ATTACH;FMTTYPE=image/jpeg:https://goldcrestnaturetours.nl/wp-content/uploads/2025/03/middelste-bonte-specht-2.jpg
END:VEVENT
END:VCALENDAR