BEGIN:VCALENDAR
VERSION:2.0
PRODID:-//Goldcrest Nature Tours - ECPv6.15.20//NONSGML v1.0//EN
CALSCALE:GREGORIAN
METHOD:PUBLISH
X-ORIGINAL-URL:https://goldcrestnaturetours.nl
X-WR-CALDESC:Evenementen voor Goldcrest Nature Tours
REFRESH-INTERVAL;VALUE=DURATION:PT1H
X-Robots-Tag:noindex
X-PUBLISHED-TTL:PT1H
BEGIN:VTIMEZONE
TZID:Europe/Paris
BEGIN:DAYLIGHT
TZOFFSETFROM:+0100
TZOFFSETTO:+0200
TZNAME:CEST
DTSTART:20220327T010000
END:DAYLIGHT
BEGIN:STANDARD
TZOFFSETFROM:+0200
TZOFFSETTO:+0100
TZNAME:CET
DTSTART:20221030T010000
END:STANDARD
BEGIN:DAYLIGHT
TZOFFSETFROM:+0100
TZOFFSETTO:+0200
TZNAME:CEST
DTSTART:20230326T010000
END:DAYLIGHT
BEGIN:STANDARD
TZOFFSETFROM:+0200
TZOFFSETTO:+0100
TZNAME:CET
DTSTART:20231029T010000
END:STANDARD
BEGIN:DAYLIGHT
TZOFFSETFROM:+0100
TZOFFSETTO:+0200
TZNAME:CEST
DTSTART:20240331T010000
END:DAYLIGHT
BEGIN:STANDARD
TZOFFSETFROM:+0200
TZOFFSETTO:+0100
TZNAME:CET
DTSTART:20241027T010000
END:STANDARD
END:VTIMEZONE
BEGIN:VEVENT
DTSTART;TZID=Europe/Paris:20231211T090000
DTEND;TZID=Europe/Paris:20231211T130000
DTSTAMP:20260425T034207
CREATED:20220809T094101Z
LAST-MODIFIED:20231004T151139Z
UID:4334-1702285200-1702299600@goldcrestnaturetours.nl
SUMMARY:Vogelexcursie in de Korendijkse slikken
DESCRIPTION:Wintervogels in een zoetwater getijdegebied\nEen vogelexcursie in de Korendijkse slikken op zoek naar de wintervogels. Een interessante wandeling van ongeveer 5 km in een getijde natuurgebied. Vanaf ons vertrekpunt lopen we naar diverse observatiepunten. Waarvandaan je een prachtig zicht hebt over het natuurgebied\, het Spui en het Haringvliet. Samen met vogelaar Chris de Nooijer ga je op zoek naar de vele vogelsoorten. Zijn vogelkennis is buitengewoon en hij deelt dit graag met zijn gasten. \nWinterse omstandigheden geven ons naast prachtige vergezichten ook de kans op mooie vogelwaarnemingen. Bekijk de gehele tourinformatie Vogelexcursie in de Korendijkse slikken
URL:https://goldcrestnaturetours.nl/event/vogelexcursie-in-de-korendijkse-slikken/
LOCATION:Parkeerplaats Korendijkse slikken\, Westdijk 16\, Goudswaard\, 3267LV\, Nederland
CATEGORIES:dagexcursie,vogelreizen
ATTACH;FMTTYPE=image/jpeg:https://goldcrestnaturetours.nl/wp-content/uploads/2022/08/Blauwe-kiekendief-man.jpg
END:VEVENT
END:VCALENDAR