BEGIN:VCALENDAR
VERSION:2.0
PRODID:-//Goldcrest Nature Tours - ECPv6.15.20//NONSGML v1.0//EN
CALSCALE:GREGORIAN
METHOD:PUBLISH
X-WR-CALNAME:Goldcrest Nature Tours
X-ORIGINAL-URL:https://goldcrestnaturetours.nl
X-WR-CALDESC:Evenementen voor Goldcrest Nature Tours
REFRESH-INTERVAL;VALUE=DURATION:PT1H
X-Robots-Tag:noindex
X-PUBLISHED-TTL:PT1H
BEGIN:VTIMEZONE
TZID:Europe/Paris
BEGIN:DAYLIGHT
TZOFFSETFROM:+0100
TZOFFSETTO:+0200
TZNAME:CEST
DTSTART:20230326T010000
END:DAYLIGHT
BEGIN:STANDARD
TZOFFSETFROM:+0200
TZOFFSETTO:+0100
TZNAME:CET
DTSTART:20231029T010000
END:STANDARD
BEGIN:DAYLIGHT
TZOFFSETFROM:+0100
TZOFFSETTO:+0200
TZNAME:CEST
DTSTART:20240331T010000
END:DAYLIGHT
BEGIN:STANDARD
TZOFFSETFROM:+0200
TZOFFSETTO:+0100
TZNAME:CET
DTSTART:20241027T010000
END:STANDARD
BEGIN:DAYLIGHT
TZOFFSETFROM:+0100
TZOFFSETTO:+0200
TZNAME:CEST
DTSTART:20250330T010000
END:DAYLIGHT
BEGIN:STANDARD
TZOFFSETFROM:+0200
TZOFFSETTO:+0100
TZNAME:CET
DTSTART:20251026T010000
END:STANDARD
END:VTIMEZONE
BEGIN:VEVENT
DTSTART;TZID=Europe/Paris:20240804T200000
DTEND;TZID=Europe/Paris:20240804T220000
DTSTAMP:20260424T153144
CREATED:20220812T085408Z
LAST-MODIFIED:20231204T153701Z
UID:4387-1722801600-1722808800@goldcrestnaturetours.nl
SUMMARY:Beverexcursie in de Bernisse
DESCRIPTION:Avondexcursie Bevers en Vleermuizen in de Bernisse\nEen instap natuurexcursie i.s.m. Er Op Uit in Nissewaard \n✓ Begeleiding van een ervaren natuurgids✓ Zoogdieren als de Bever en Vleermuizen✓ Kans op uilen als Ransuil en Kerkuil✓ Locaties in de Bernisse op het eiland Voorne-Putten✓ Ideaal om jouw natuurkennis te vergroten✓ Avondschemer excursie \nDatum:04-08-2024Tijd: 20:00 – 22:00Vanaf 12 jaar en ouder\nWat gaan we doen?\nEen instap Beverexcursie in de Bernisse op het eiland Voorne-Putten.  Heb je altijd al méér willen weten over de zoogdieren als de Bever  in jouw eigen omgeving? Dít is je kans om onder begeleiding van een ervaren natuurgids de zoogdieren te gaan (her)ontdekken. Deze instap natuurexcursie staan de Bever en de Vleermuizen centraal. We gaan vooral op zoek naar sporen van ons grootste knaagdier en misschien treffen we een Bever\, als die in de schemer op zoek gaat naar voedsel. Met de batdetector kunnen we horen welke Vleermuizen zich tegoed doen aan de duizenden muggen boven het water van de Bernisse. \nWe lopen een interessante route door het Bernisse gebied. Op diverse locaties kijken we op gepaste afstand of we zoogdieren kunnen waarnemen. \nBekijk deze excursie voor meer informatie Beverexcursie in de Bernisse
URL:https://goldcrestnaturetours.nl/event/beverexcursie-in-de-bernisse/
LOCATION:Parkeerplaats Krekenhoek\, Oude Veerdam\, Zuidland\, 3214LT\, Nederland
CATEGORIES:dagexcursie
ATTACH;FMTTYPE=image/jpeg:https://goldcrestnaturetours.nl/wp-content/uploads/2022/08/Bever-2.jpg
END:VEVENT
END:VCALENDAR