BEGIN:VCALENDAR
VERSION:2.0
PRODID:-//Goldcrest Nature Tours - ECPv6.15.20//NONSGML v1.0//EN
CALSCALE:GREGORIAN
METHOD:PUBLISH
X-WR-CALNAME:Goldcrest Nature Tours
X-ORIGINAL-URL:https://goldcrestnaturetours.nl
X-WR-CALDESC:Evenementen voor Goldcrest Nature Tours
REFRESH-INTERVAL;VALUE=DURATION:PT1H
X-Robots-Tag:noindex
X-PUBLISHED-TTL:PT1H
BEGIN:VTIMEZONE
TZID:Europe/Amsterdam
BEGIN:DAYLIGHT
TZOFFSETFROM:+0100
TZOFFSETTO:+0200
TZNAME:CEST
DTSTART:20250330T010000
END:DAYLIGHT
BEGIN:STANDARD
TZOFFSETFROM:+0200
TZOFFSETTO:+0100
TZNAME:CET
DTSTART:20251026T010000
END:STANDARD
BEGIN:DAYLIGHT
TZOFFSETFROM:+0100
TZOFFSETTO:+0200
TZNAME:CEST
DTSTART:20260329T010000
END:DAYLIGHT
BEGIN:STANDARD
TZOFFSETFROM:+0200
TZOFFSETTO:+0100
TZNAME:CET
DTSTART:20261025T010000
END:STANDARD
BEGIN:DAYLIGHT
TZOFFSETFROM:+0100
TZOFFSETTO:+0200
TZNAME:CEST
DTSTART:20270328T010000
END:DAYLIGHT
BEGIN:STANDARD
TZOFFSETFROM:+0200
TZOFFSETTO:+0100
TZNAME:CET
DTSTART:20271031T010000
END:STANDARD
END:VTIMEZONE
BEGIN:VEVENT
DTSTART;TZID=Europe/Amsterdam:20261203T210000
DTEND;TZID=Europe/Amsterdam:20261207T220000
DTSTAMP:20260424T210634
CREATED:20250319T173557Z
LAST-MODIFIED:20260325T163529Z
UID:8770-1796331600-1796680800@goldcrestnaturetours.nl
SUMMARY:Korte vogelreis Norfolk
DESCRIPTION:Ga in de winter mee naar het vogelrijke Norfolk\, een van de mooiste vogelgebieden van Engeland. In deze korte maar intensieve vijfdaagse vogelreis nemen we je mee naar de uitgestrekte kwelders\, duinen en graslanden van de noordkust\, waar duizenden vogels overwinteren. Een vogelspektakel in Norfolk!  \n\n\n\nInclusief overtocht met de ferry vanaf Hoek van Holland\, vervoer met onze luxe minibus\, alle overnachtingen en maaltijden. \n\n\n\nKleine rietganzenOverwinterende kraanvogels en witbuikrotganzenDag actieve kerkuilen
URL:https://goldcrestnaturetours.nl/event/korte-vogelreis-norfolk/
LOCATION:Stena Line\, Stationsweg 10\, Hoek van Holland\, 3151 HR
ATTACH;FMTTYPE=image/jpeg:https://goldcrestnaturetours.nl/wp-content/uploads/2025/03/kerkuil.jpg
END:VEVENT
END:VCALENDAR