BEGIN:VCALENDAR
VERSION:2.0
PRODID:-//Goldcrest Nature Tours - ECPv6.15.20//NONSGML v1.0//EN
CALSCALE:GREGORIAN
METHOD:PUBLISH
X-WR-CALNAME:Goldcrest Nature Tours
X-ORIGINAL-URL:https://goldcrestnaturetours.nl
X-WR-CALDESC:Evenementen voor Goldcrest Nature Tours
REFRESH-INTERVAL;VALUE=DURATION:PT1H
X-Robots-Tag:noindex
X-PUBLISHED-TTL:PT1H
BEGIN:VTIMEZONE
TZID:Europe/Amsterdam
BEGIN:DAYLIGHT
TZOFFSETFROM:+0100
TZOFFSETTO:+0200
TZNAME:CEST
DTSTART:20250330T010000
END:DAYLIGHT
BEGIN:STANDARD
TZOFFSETFROM:+0200
TZOFFSETTO:+0100
TZNAME:CET
DTSTART:20251026T010000
END:STANDARD
BEGIN:DAYLIGHT
TZOFFSETFROM:+0100
TZOFFSETTO:+0200
TZNAME:CEST
DTSTART:20260329T010000
END:DAYLIGHT
BEGIN:STANDARD
TZOFFSETFROM:+0200
TZOFFSETTO:+0100
TZNAME:CET
DTSTART:20261025T010000
END:STANDARD
BEGIN:DAYLIGHT
TZOFFSETFROM:+0100
TZOFFSETTO:+0200
TZNAME:CEST
DTSTART:20270328T010000
END:DAYLIGHT
BEGIN:STANDARD
TZOFFSETFROM:+0200
TZOFFSETTO:+0100
TZNAME:CET
DTSTART:20271031T010000
END:STANDARD
END:VTIMEZONE
BEGIN:VEVENT
DTSTART;TZID=Europe/Amsterdam:20260901T080000
DTEND;TZID=Europe/Amsterdam:20260908T170000
DTSTAMP:20260424T164253
CREATED:20231010T134709Z
LAST-MODIFIED:20251013T151900Z
UID:6057-1788249600-1788886800@goldcrestnaturetours.nl
SUMMARY:Vogeltrek Tarifa en Cota Donana
DESCRIPTION:Een unieke kans om de Vogelmigratie in Zuid-Spanje te beleven\n\n\n\n✓ De juiste tijd voor de massale oversteek bij Tarifa✓ Gieren\, arenden\, Ooievaars en zangvogels✓ Zeevogeltocht in de straat van Gibraltar\, voor zeevogel trek en zeezoogdieren✓ Begeleiding door twee ervaren en enthousiaste vogelaars✓ Ruimte voor vogelfotografie
URL:https://goldcrestnaturetours.nl/event/vogeltrek-tarifa-en-cota-donana/
LOCATION:Rotterdam/The Hague Airport\, Rotterdam Airportplein 60\, Rotterdam\, 3045 AP\, Netherlands
CATEGORIES:Natuurreizen,vogelreizen
ATTACH;FMTTYPE=image/jpeg:https://goldcrestnaturetours.nl/wp-content/uploads/2023/10/Slangenarend-1.jpg
END:VEVENT
BEGIN:VEVENT
DTSTART;TZID=Europe/Amsterdam:20260912T070000
DTEND;TZID=Europe/Amsterdam:20260912T150000
DTSTAMP:20260424T164253
CREATED:20240221T111323Z
LAST-MODIFIED:20260302T174916Z
UID:6862-1789196400-1789225200@goldcrestnaturetours.nl
SUMMARY:Vogelexcursie Belgische Ardennen
DESCRIPTION:Wat gaan we doen?\n\n\n\nIn één dag heen en weer voor een gave vogelexcursie in de Belgische Ardennen. In België maken we kans op vogelsoorten als de Notenkraker\, Rode wouw en de Waterspreeuw. Samen met Chris de Nooijer \, een ervaren natuurgids en vogelaar gaat u op ontdekking in de prachtige natuur van de Belgische Ardennen. Het wordt een dag met véél natuurbeleving en tijd om te struinen\, te fotograferen én te genieten van de omgeving. Lekker buiten in de natuur samen met een kleine groep mensen die net zo enthousiast worden van de vogels in de Belgische Ardennen als u! \n\n\n\nChris kent de omgeving van de Oostkantons zeer goed en struint hier elk jaar de gebieden af op zoek naar de bijzondere vogelsoorten. Zo neemt hij u mee naar de beste locaties in de Belgische Ardennen voor de beste kans op Notenkraker en Waterspreeuw.
URL:https://goldcrestnaturetours.nl/event/vogelexcursie-belgische-ardennen-2/
LOCATION:P&R Meerhoven\, Sliffertsestraat 304\, Eindhoven\, 5657 AS
CATEGORIES:dagexcursie,Vogelexcursie
ATTACH;FMTTYPE=image/jpeg:https://goldcrestnaturetours.nl/wp-content/uploads/2024/02/Visarend-met-een-zojuist-gevangen-vis.jpg
END:VEVENT
BEGIN:VEVENT
DTSTART;TZID=Europe/Amsterdam:20260925T080000
DTEND;TZID=Europe/Amsterdam:20260930T170000
DTSTAMP:20260424T164253
CREATED:20260303T142611Z
LAST-MODIFIED:20260303T142613Z
UID:10107-1790323200-1790787600@goldcrestnaturetours.nl
SUMMARY:Met Albert vlinders kijken in Andalusië
DESCRIPTION:Andalusië staat bekend om zijn 300 dagen zonnig weer in het jaar. Het drukke vlinderseizoen zit er bij ons al op in september. In het zuiden van Spanje is het echter nog steeds leuk om insecten te zoeken. Uiteraard zijn er al wat minder soorten dan in de zomer\, maar je komt nog steeds leuke soorten tegen. De Woestijnheidelibel is zo’n soort die eigenlijk vooral in het najaar wordt gezien. Aan de kust zijn de Monarchvlinders en Amethistblauwtjes nog actief. En het Vals oranjetipje is ook een van de leuke witjes. \n\n\n\nWat veel mensen niet weten is dat in oktober sommige voorjaarssoorten juist weer gaan vliegen. Denk aan de Spaanse pijpbloemvlinder\, Gestreept marmerwitje of aan het Geel oranjetipje. Daarmee zijn er nog altijd zo’n 50 vlindersoorten te zien in deze omgeving. Bijzondere en lokale soorten zoals het Borbodikkopje\, Moors bruin blauwtje\, het Mediterraan icarusblauwtje\, Moors kaasjeskruiddikkopje\, Gestreepte heivlinder zijn mogelijkheden om tegen te komen. Cleopatra\, Kardinaalsmantel maar ook de zeer aansprekende Pasja hebben hier nog een extra generatie vliegen. \n\n\n\n✓ Vlinderreis met Albert Vliegenthart (Vlinderstichting)✓ Kans op een endemische soort: t’ Borbodikkopje✓ Op zoek naar Pasja en Spaanse oranje zandoogje✓ Mogelijk een waarneming van Groene haaklibel✓ i.s.m. de Vlinderstichting\, donateursvoordeel en donatie beschermingsfonds
URL:https://goldcrestnaturetours.nl/event/met-albert-vlinders-kijken-in-andalusie/
LOCATION:Nog nader te bepalen\, Ridderstraat 5\, Heenvliet\, 3218 VR\, Netherlands
ATTACH;FMTTYPE=image/jpeg:https://goldcrestnaturetours.nl/wp-content/uploads/2025/01/Kleine-monarchvlinder.jpg
ORGANIZER;CN="Goldcrest Nature Tours":MAILTO:goldcrestnaturetours@gmail.com
END:VEVENT
BEGIN:VEVENT
DTSTART;TZID=Europe/Amsterdam:20260928T080000
DTEND;TZID=Europe/Amsterdam:20261002T170000
DTSTAMP:20260424T164253
CREATED:20250916T133320Z
LAST-MODIFIED:20250916T133322Z
UID:9145-1790582400-1790960400@goldcrestnaturetours.nl
SUMMARY:Landschapsfotografie Opaalkust
DESCRIPTION:In het noorden van Frankrijk\, tussen Calais en Boulogne-sur-Mer\, ligt de Opaalkust. Misschien wel het meest fotogenieke kustgebied van Frankrijk\, met ruige kliffen\, prachtige stranden met talloze structuren\, eindeloze mosselpalen en charmante dorpjes. En niet te vergeten: immense getijdenverschillen\, waardoor de stranden 2x per dag een transformatie ondergaan. Een waar feest voor fotografen! Tijdens de fotoreis naar de Opaalkust neemt fotograaf Louise Poortvliet je mee naar de mooiste plekken in deze bijzondere regio\, zodat jij hier geweldige foto’s kunt maken. \n\n\n\n✓ Een droom locatie voor landschapsfotografen.✓ Ruige kliffen en unieke zandstructuren van de Opaalkust✓ Leer alles over compositie\, lange sluitertijden en werken met grijsfilters✓ Creatieve landschapsfotografie tijdens het gouden uur
URL:https://goldcrestnaturetours.nl/event/landschapsfotografie-opaalkust/
LOCATION:Breda Prinsenbeek\, Breda\, 4823 AA\, Netherlands
ATTACH;FMTTYPE=image/jpeg:https://goldcrestnaturetours.nl/wp-content/uploads/2025/06/Fotoreis-Opaalkust-2©Louise-Poortvliet.jpg
END:VEVENT
END:VCALENDAR