BEGIN:VCALENDAR
VERSION:2.0
PRODID:-//Goldcrest Nature Tours - ECPv6.15.20//NONSGML v1.0//EN
CALSCALE:GREGORIAN
METHOD:PUBLISH
X-ORIGINAL-URL:https://goldcrestnaturetours.nl
X-WR-CALDESC:Evenementen voor Goldcrest Nature Tours
REFRESH-INTERVAL;VALUE=DURATION:PT1H
X-Robots-Tag:noindex
X-PUBLISHED-TTL:PT1H
BEGIN:VTIMEZONE
TZID:Europe/Amsterdam
BEGIN:DAYLIGHT
TZOFFSETFROM:+0100
TZOFFSETTO:+0200
TZNAME:CEST
DTSTART:20240331T010000
END:DAYLIGHT
BEGIN:STANDARD
TZOFFSETFROM:+0200
TZOFFSETTO:+0100
TZNAME:CET
DTSTART:20241027T010000
END:STANDARD
BEGIN:DAYLIGHT
TZOFFSETFROM:+0100
TZOFFSETTO:+0200
TZNAME:CEST
DTSTART:20250330T010000
END:DAYLIGHT
BEGIN:STANDARD
TZOFFSETFROM:+0200
TZOFFSETTO:+0100
TZNAME:CET
DTSTART:20251026T010000
END:STANDARD
BEGIN:DAYLIGHT
TZOFFSETFROM:+0100
TZOFFSETTO:+0200
TZNAME:CEST
DTSTART:20260329T010000
END:DAYLIGHT
BEGIN:STANDARD
TZOFFSETFROM:+0200
TZOFFSETTO:+0100
TZNAME:CET
DTSTART:20261025T010000
END:STANDARD
END:VTIMEZONE
BEGIN:VEVENT
DTSTART;TZID=Europe/Amsterdam:20251001T080000
DTEND;TZID=Europe/Amsterdam:20251001T150000
DTSTAMP:20260424T180646
CREATED:20250314T121516Z
LAST-MODIFIED:20250314T121520Z
UID:8687-1759305600-1759330800@goldcrestnaturetours.nl
SUMMARY:Natuursafari op de Veluwe
DESCRIPTION:Natuursafari in eigen land op de Veluwe\n\n\n\nHoud je van een heerlijke boswandeling met het geluid van vogels en het speuren naar wild en hun sporen? Dan is deze dagexcursie echt wat voor jou. Je gaat op pad met een ervaren natuurgids die jou de mooie natuur van de Veluwe laten beleven. \n\n\n\nIn het najaar gaan we struinen door de uitgestrekte natuur van de Noord-Veluwe. We maken een boswandeling\, en een wandeling over de heide. Vroeg in de ochtend maken we grote kans op het spotten van zoogdieren. En de vogels van het bos laten van zich horen. Soorten als de Zwarte specht\, Kuifmees en Appelvink willen we jou natuurlijk graag laten zien. Op de heide zoeken we naar de laatste actieve insecten en spinnen (najaar). Als het een vochtig genoeg is zullen we ook veel soorten paddenstoelen tegen komen. Een dag waarin we diverse gebieden bezoeken met elk zijn eigen natuurwaarnemingen.
URL:https://goldcrestnaturetours.nl/event/natuursafari-op-de-veluwe/
ATTACH;FMTTYPE=image/jpeg:https://goldcrestnaturetours.nl/wp-content/uploads/2025/03/Rode-eekhoorn.jpg
END:VEVENT
BEGIN:VEVENT
DTSTART;TZID=Europe/Amsterdam:20251010T080000
DTEND;TZID=Europe/Amsterdam:20251010T120000
DTSTAMP:20260424T180646
CREATED:20250315T120323Z
LAST-MODIFIED:20250315T120328Z
UID:8716-1760083200-1760097600@goldcrestnaturetours.nl
SUMMARY:Excursie vogeltrek Maasvlakte
DESCRIPTION:Vogeltrek Maasvlakte beleven \n\n\n\nEen vogelexcursie Maasvlakte in het havengebied van Rotterdam. Deze omgeving\, met grote contrasten\, heeft veel te bieden op vogelgebied. Dit is uw kans om onder begeleiding van lokale vogelaar deze vogelgebieden te gaan ontdekken. Tijdens de vogelexcursie Maasvlakte staan de zeevogels en de vogeltrek centraal. Elk jaar struint Chris\, en menig vogelliefhebber\, op de Maasvlakte op zoek naar algemene en bijzondere vogels die tijdens de trek uitrusten op de Maasvlakte. Met de juiste windrichting turen we over zee naar gave zeevogelsoorten. Chris heeft veel expertise in het monitoren van de zeevogeltrek. Het langstrekken van keilende zeevogels is een bijzondere ervaring om mee te maken \n\n\n\nWe maken enkele korte wandelingen langs de vogelrijke stukken van de Maasvlakte en turen met meerdere telescopen over zee.
URL:https://goldcrestnaturetours.nl/event/excursie-vogeltrek-maasvlakte/
ATTACH;FMTTYPE=image/jpeg:https://goldcrestnaturetours.nl/wp-content/uploads/2020/10/cropped-drieteenstr-vlucht-1-scaled-1-e1632918972978.jpg
END:VEVENT
BEGIN:VEVENT
DTSTART;TZID=Europe/Amsterdam:20251018T080000
DTEND;TZID=Europe/Amsterdam:20251018T150000
DTSTAMP:20260424T180646
CREATED:20250314T140717Z
LAST-MODIFIED:20250314T140722Z
UID:8698-1760774400-1760799600@goldcrestnaturetours.nl
SUMMARY:Excursie: vogeltrek op Voorne Putten
DESCRIPTION:Een vogelexcursie helemaal in het teken van de vogelmigratie op Voorne Putten. Als de dagen korter worden krijgen de migrerende vogels een onweerstaanbare drang om te migreren. Als de weersomstandigheden goed zijn vliegen er vele vogels naar het zuiden van Europa of verder. Deze migratie in het najaar gaan we volgen op het Zuid-Hollandse eiland Voorne Putten. Samen met een enthousiaste en zéér ervaren gids en vogelaar gaat u deze vogeltrek beleven. Vanaf diverse locaties\, afhankelijk van de windrichting op Voorne Putten kijken en luisteren we naar de honderden vogels die overvliegen. \n\n\n\nHet levert een mooie wandeling en heerlijke dag in de natuur op\, én een schat aan informatie over vogels én hun migratiegedrag.
URL:https://goldcrestnaturetours.nl/event/excursie-vogeltrek-op-voorne-putten/
ATTACH;FMTTYPE=image/jpeg:https://goldcrestnaturetours.nl/wp-content/uploads/2025/03/Blauwstaart-1e-winter-.jpg
END:VEVENT
END:VCALENDAR