BEGIN:VCALENDAR
VERSION:2.0
PRODID:-//Goldcrest Nature Tours - ECPv6.15.20//NONSGML v1.0//EN
CALSCALE:GREGORIAN
METHOD:PUBLISH
X-WR-CALNAME:Goldcrest Nature Tours
X-ORIGINAL-URL:https://goldcrestnaturetours.nl
X-WR-CALDESC:Evenementen voor Goldcrest Nature Tours
REFRESH-INTERVAL;VALUE=DURATION:PT1H
X-Robots-Tag:noindex
X-PUBLISHED-TTL:PT1H
BEGIN:VTIMEZONE
TZID:Europe/Amsterdam
BEGIN:DAYLIGHT
TZOFFSETFROM:+0100
TZOFFSETTO:+0200
TZNAME:CEST
DTSTART:20240331T010000
END:DAYLIGHT
BEGIN:STANDARD
TZOFFSETFROM:+0200
TZOFFSETTO:+0100
TZNAME:CET
DTSTART:20241027T010000
END:STANDARD
BEGIN:DAYLIGHT
TZOFFSETFROM:+0100
TZOFFSETTO:+0200
TZNAME:CEST
DTSTART:20250330T010000
END:DAYLIGHT
BEGIN:STANDARD
TZOFFSETFROM:+0200
TZOFFSETTO:+0100
TZNAME:CET
DTSTART:20251026T010000
END:STANDARD
BEGIN:DAYLIGHT
TZOFFSETFROM:+0100
TZOFFSETTO:+0200
TZNAME:CEST
DTSTART:20260329T010000
END:DAYLIGHT
BEGIN:STANDARD
TZOFFSETFROM:+0200
TZOFFSETTO:+0100
TZNAME:CET
DTSTART:20261025T010000
END:STANDARD
END:VTIMEZONE
BEGIN:VEVENT
DTSTART;TZID=Europe/Amsterdam:20250912T080000
DTEND;TZID=Europe/Amsterdam:20250914T170000
DTSTAMP:20260424T194528
CREATED:20220922T100929Z
LAST-MODIFIED:20241117T113820Z
UID:4786-1757664000-1757869200@goldcrestnaturetours.nl
SUMMARY:Natuurschatten in de Belgische Ardennen-najaar
DESCRIPTION:Natuurbeleving in een bosrijk landschap\n\n\n\n✓  Een geheel verzorgd weekend in de Belgische Ardennen✓  Onder begeleiding van een ervaren natuurgids en vogelaar✓  Kans op soorten als de Notenkraker\, Waterspreeuw en Visarend✓  Avondschemer excursies voor zoogdieren en uilensoorten zoals de Dwerguil✓  Kleine groep met veel ruimte voor persoonlijke aandacht \n\n\n\n \n\n\n\nLees meer op Natuurschatten in de Belgische Ardennen
URL:https://goldcrestnaturetours.nl/event/natuurschatten-in-de-belgische-ardennen-deel-i/
LOCATION:P&R Genneper parken\, Aalsterweg 316\, Eindhoven\, 5644 RL
CATEGORIES:Natuurreizen,vogelreizen
ATTACH;FMTTYPE=image/jpeg:https://goldcrestnaturetours.nl/wp-content/uploads/2022/09/Roodbuikwaterspreeuw-1-scaled.jpg
END:VEVENT
BEGIN:VEVENT
DTSTART;TZID=Europe/Amsterdam:20250915T080000
DTEND;TZID=Europe/Amsterdam:20250915T170000
DTSTAMP:20260424T194528
CREATED:20240105T122815Z
LAST-MODIFIED:20250218T172328Z
UID:6662-1757923200-1757955600@goldcrestnaturetours.nl
SUMMARY:Vogelexcursie Belgische Ardennen
DESCRIPTION:Wat gaan we doen?\n\n\n\nIn één dag heen en weer voor een gave vogelexcursie in de Belgische Ardennen. In België maken we kans op vogelsoorten als de Notenkraker\, Rode wouw en de Waterspreeuw. Samen met Chris de Nooijer \, een ervaren natuurgids en vogelaar gaat u op ontdekking in de prachtige natuur van de Belgische Ardennen. Het wordt een dag met véél natuurbeleving en tijd om te struinen\, te fotograferen én te genieten van de omgeving. Lekker buiten in de natuur samen met een kleine groep mensen die net zo enthousiast worden van de vogels in de Belgische Ardennen als u! \n\n\n\nChris kent de omgeving van de Oostkantons zeer goed en struint hier elk jaar de gebieden af op zoek naar de bijzondere vogelsoorten. Zo neemt hij u mee naar de beste locaties in de Belgische Ardennen voor de beste kans op Notenkraker en Waterspreeuw.
URL:https://goldcrestnaturetours.nl/event/vogelexcursie-belgische-ardennen/
LOCATION:P&R Genneper parken\, Aalsterweg 316\, Eindhoven\, 5644 RL
CATEGORIES:dagexcursie,Vogelexcursie
ATTACH;FMTTYPE=image/jpeg:https://goldcrestnaturetours.nl/wp-content/uploads/2023/12/Notenkraker-in-vlucht.jpg
END:VEVENT
BEGIN:VEVENT
DTSTART;TZID=Europe/Amsterdam:20250928T080000
DTEND;TZID=Europe/Amsterdam:20250928T120000
DTSTAMP:20260424T194528
CREATED:20240101T160215Z
LAST-MODIFIED:20250314T120405Z
UID:6615-1759046400-1759060800@goldcrestnaturetours.nl
SUMMARY:Vogeltrek Maasvlakte
DESCRIPTION:Vogeltrek Maasvlakte beleven\n\n\n\nEen vogelexcursie Maasvlakte in het havengebied van Rotterdam. Deze omgeving\, met grote contrasten\, heeft veel te bieden op vogelgebied. Dit is uw kans om onder begeleiding van lokale vogelaar deze vogelgebieden te gaan ontdekken. Tijdens de vogelexcursie Maasvlakte staan de zeevogels en de vogeltrek centraal. Elk jaar struint Chris\, en menig vogelliefhebber\, op de Maasvlakte op zoek naar algemene en bijzondere vogels die tijdens de trek uitrusten op de Maasvlakte. Met de juiste windrichting turen we over zee naar gave zeevogelsoorten. Chris heeft veel expertise in het monitoren van de zeevogeltrek. Het langstrekken van keilende zeevogels is een bijzondere ervaring om mee te maken \n\n\n\nWe maken enkele korte wandelingen langs de vogelrijke stukken van de Maasvlakte en turen met meerdere telescopen over zee.
URL:https://goldcrestnaturetours.nl/event/vogelexcursie-maasvlakte/
CATEGORIES:dagexcursie,Vogelexcursie
ATTACH;FMTTYPE=image/jpeg:https://goldcrestnaturetours.nl/wp-content/uploads/2023/12/Drieteenmeeuwen.jpg
END:VEVENT
END:VCALENDAR