BEGIN:VCALENDAR
VERSION:2.0
PRODID:-//Goldcrest Nature Tours - ECPv6.15.20//NONSGML v1.0//EN
CALSCALE:GREGORIAN
METHOD:PUBLISH
X-ORIGINAL-URL:https://goldcrestnaturetours.nl
X-WR-CALDESC:Evenementen voor Goldcrest Nature Tours
REFRESH-INTERVAL;VALUE=DURATION:PT1H
X-Robots-Tag:noindex
X-PUBLISHED-TTL:PT1H
BEGIN:VTIMEZONE
TZID:Europe/Amsterdam
BEGIN:DAYLIGHT
TZOFFSETFROM:+0100
TZOFFSETTO:+0200
TZNAME:CEST
DTSTART:20240331T010000
END:DAYLIGHT
BEGIN:STANDARD
TZOFFSETFROM:+0200
TZOFFSETTO:+0100
TZNAME:CET
DTSTART:20241027T010000
END:STANDARD
BEGIN:DAYLIGHT
TZOFFSETFROM:+0100
TZOFFSETTO:+0200
TZNAME:CEST
DTSTART:20250330T010000
END:DAYLIGHT
BEGIN:STANDARD
TZOFFSETFROM:+0200
TZOFFSETTO:+0100
TZNAME:CET
DTSTART:20251026T010000
END:STANDARD
BEGIN:DAYLIGHT
TZOFFSETFROM:+0100
TZOFFSETTO:+0200
TZNAME:CEST
DTSTART:20260329T010000
END:DAYLIGHT
BEGIN:STANDARD
TZOFFSETFROM:+0200
TZOFFSETTO:+0100
TZNAME:CET
DTSTART:20261025T010000
END:STANDARD
END:VTIMEZONE
BEGIN:VEVENT
DTSTART;TZID=Europe/Amsterdam:20250201T090000
DTEND;TZID=Europe/Amsterdam:20250201T130000
DTSTAMP:20260425T184524
CREATED:20231231T145433Z
LAST-MODIFIED:20241129T154401Z
UID:6598-1738400400-1738414800@goldcrestnaturetours.nl
SUMMARY:Wintervogels Beningerslikken
DESCRIPTION:Wat gaan we doen?\n\n\n\nHalve dagexcursie 9:00-13:00\n\n\n\nWe maken een ochtend wandeling in de Beningerslikken met deze vogelexcursie wintervogels. Een wandeling van ongeveer 5 km in een getijde natuurgebied. Vanaf ons vertrekpunt lopen we naar de uitkijktoren waarvandaan je een prachtig uitzicht hebt over het natuurgebied\, het Spui en het Haringvliet. Winterse omstandigheden geven ons naast prachtige vergezichten ook de kans op mooie vogelwaarnemingen. Soorten die zich graag schuil houden in het riet worden door ijsvorming gedwongen om uit hun schuilplaats te komen. Het koude weer kost veel energie en dus is foerageren erg belangrijk voor de vogels. Ze zoeken daarom plekken op die rijk zijn aan gemakkelijk te verkrijgen voedsel.
URL:https://goldcrestnaturetours.nl/event/wintervogels-beningerslikken/
CATEGORIES:dagexcursie,Vogelexcursie
ATTACH;FMTTYPE=image/jpeg:https://goldcrestnaturetours.nl/wp-content/uploads/2020/11/Middelste-zaagbek-man.jpg
END:VEVENT
END:VCALENDAR