BEGIN:VCALENDAR
VERSION:2.0
PRODID:-//Goldcrest Nature Tours - ECPv6.15.20//NONSGML v1.0//EN
CALSCALE:GREGORIAN
METHOD:PUBLISH
X-WR-CALNAME:Goldcrest Nature Tours
X-ORIGINAL-URL:https://goldcrestnaturetours.nl
X-WR-CALDESC:Evenementen voor Goldcrest Nature Tours
REFRESH-INTERVAL;VALUE=DURATION:PT1H
X-Robots-Tag:noindex
X-PUBLISHED-TTL:PT1H
BEGIN:VTIMEZONE
TZID:Europe/Paris
BEGIN:DAYLIGHT
TZOFFSETFROM:+0100
TZOFFSETTO:+0200
TZNAME:CEST
DTSTART:20230326T010000
END:DAYLIGHT
BEGIN:STANDARD
TZOFFSETFROM:+0200
TZOFFSETTO:+0100
TZNAME:CET
DTSTART:20231029T010000
END:STANDARD
BEGIN:DAYLIGHT
TZOFFSETFROM:+0100
TZOFFSETTO:+0200
TZNAME:CEST
DTSTART:20240331T010000
END:DAYLIGHT
BEGIN:STANDARD
TZOFFSETFROM:+0200
TZOFFSETTO:+0100
TZNAME:CET
DTSTART:20241027T010000
END:STANDARD
BEGIN:DAYLIGHT
TZOFFSETFROM:+0100
TZOFFSETTO:+0200
TZNAME:CEST
DTSTART:20250330T010000
END:DAYLIGHT
BEGIN:STANDARD
TZOFFSETFROM:+0200
TZOFFSETTO:+0100
TZNAME:CET
DTSTART:20251026T010000
END:STANDARD
END:VTIMEZONE
BEGIN:VEVENT
DTSTART;TZID=Europe/Paris:20240503T130000
DTEND;TZID=Europe/Paris:20240503T150000
DTSTAMP:20260424T230505
CREATED:20220812T090139Z
LAST-MODIFIED:20231204T152006Z
UID:4390-1714741200-1714748400@goldcrestnaturetours.nl
SUMMARY:Macronatuurfotografie in de Bernisse
DESCRIPTION:Workshop Macro natuurfotografie in de Bernisse\nEen instap fotografieworkshop i.s.m. Er Op Uit Nissewaard \n✓ Begeleiding van twee ervaren natuurfotografen✓ Onderwerpen als wilde bloemen✓ Fotografie van insecten en vlinders✓ Locaties in de Bernisse op het eiland Voorne-Putten✓ Ideaal om jouw natuurfotografie skills te vergroten \nDatum: 03 mei 2024Tijd: 13:00 – 15:00Vanaf 12 jaar en ouder\nWat gaan we doen?\nEen instap workshop Macro natuurfotografie in de Bernisse op het eiland Voorne-Putten.  Heb je altijd al méér willen weten over natuurfotografie en Macrofotografie in het bijzonder? Dít is je kans om onder begeleiding van een ervaren natuurfotograaf de magie van Macrofotografie te ontdekken. Deze instap natuurfotografie workshop staan de kleine details in de natuur centraal. We gaan vooral op zoek naar bloemen\, insecten en vlinders in de Bernisse. \nWe spreken af op een geschikte locatie voor Macrofotografie en zoeken interessante onderwerpen om te fotograferen. Aan de hand van een korte uitleg ga je zelf aan de slag. Door in de praktijk bezig te zijn met je camera en het onderwerp krijg je steeds meer ervaring met Macrofotografie. Je probeert verschillende instellingen en invalshoeken uit zodat je dit zelf verder kan uitbreiden. \nBekijk de informatie over deze excursie via de link Macro natuurfotografie in de Bernisse
URL:https://goldcrestnaturetours.nl/event/macronatuurfotografie-in-de-bernisse/
LOCATION:Parkeerplaats Krekenhoek\, Oude Veerdam\, Zuidland\, 3214LT\, Nederland
CATEGORIES:dagexcursie,Fotografiereizen
ATTACH;FMTTYPE=image/jpeg:https://goldcrestnaturetours.nl/wp-content/uploads/2022/08/Citroenvlinders.jpg
END:VEVENT
END:VCALENDAR