BEGIN:VCALENDAR
VERSION:2.0
PRODID:-//Goldcrest Nature Tours - ECPv6.15.20//NONSGML v1.0//EN
CALSCALE:GREGORIAN
METHOD:PUBLISH
X-WR-CALNAME:Goldcrest Nature Tours
X-ORIGINAL-URL:https://goldcrestnaturetours.nl
X-WR-CALDESC:Evenementen voor Goldcrest Nature Tours
REFRESH-INTERVAL;VALUE=DURATION:PT1H
X-Robots-Tag:noindex
X-PUBLISHED-TTL:PT1H
BEGIN:VTIMEZONE
TZID:Europe/Amsterdam
BEGIN:DAYLIGHT
TZOFFSETFROM:+0100
TZOFFSETTO:+0200
TZNAME:CEST
DTSTART:20260329T010000
END:DAYLIGHT
BEGIN:STANDARD
TZOFFSETFROM:+0200
TZOFFSETTO:+0100
TZNAME:CET
DTSTART:20261025T010000
END:STANDARD
BEGIN:DAYLIGHT
TZOFFSETFROM:+0100
TZOFFSETTO:+0200
TZNAME:CEST
DTSTART:20270328T010000
END:DAYLIGHT
BEGIN:STANDARD
TZOFFSETFROM:+0200
TZOFFSETTO:+0100
TZNAME:CET
DTSTART:20271031T010000
END:STANDARD
BEGIN:DAYLIGHT
TZOFFSETFROM:+0100
TZOFFSETTO:+0200
TZNAME:CEST
DTSTART:20280326T010000
END:DAYLIGHT
BEGIN:STANDARD
TZOFFSETFROM:+0200
TZOFFSETTO:+0100
TZNAME:CET
DTSTART:20281029T010000
END:STANDARD
END:VTIMEZONE
BEGIN:VEVENT
DTSTART;TZID=Europe/Amsterdam:20270704T070000
DTEND;TZID=Europe/Amsterdam:20270704T160000
DTSTAMP:20260425T164420
CREATED:20260325T160131Z
LAST-MODIFIED:20260325T160133Z
UID:10265-1814684400-1814716800@goldcrestnaturetours.nl
SUMMARY:Ontdek vlinders en libellen in de Ardennen
DESCRIPTION:✓  Met een ervaren vlinderspecialist ontdekt u de beste vlinderlocaties✓  Purperstreepparelmoervlinder en vele andere fraaie soorten vlinders✓  Speerwaterjuffer en Gewone Bronlibel✓  Inclusief vervoer vanaf een verzamelpunt in Nederland \n\n\n\ni.s.m de vlinderstichting\, donateurs voordeel
URL:https://goldcrestnaturetours.nl/event/ontdek-vlinders-en-libellen-in-de-ardennen/
LOCATION:P&R Genneper parken\, Aalsterweg 316\, Eindhoven\, 5644 RL
ATTACH;FMTTYPE=image/jpeg:https://goldcrestnaturetours.nl/wp-content/uploads/2026/03/Dambordje-imago.jpg
END:VEVENT
END:VCALENDAR