BEGIN:VCALENDAR
VERSION:2.0
PRODID:-//Goldcrest Nature Tours - ECPv6.15.20//NONSGML v1.0//EN
CALSCALE:GREGORIAN
METHOD:PUBLISH
X-WR-CALNAME:Goldcrest Nature Tours
X-ORIGINAL-URL:https://goldcrestnaturetours.nl
X-WR-CALDESC:Evenementen voor Goldcrest Nature Tours
REFRESH-INTERVAL;VALUE=DURATION:PT1H
X-Robots-Tag:noindex
X-PUBLISHED-TTL:PT1H
BEGIN:VTIMEZONE
TZID:Europe/Amsterdam
BEGIN:DAYLIGHT
TZOFFSETFROM:+0100
TZOFFSETTO:+0200
TZNAME:CEST
DTSTART:20260329T010000
END:DAYLIGHT
BEGIN:STANDARD
TZOFFSETFROM:+0200
TZOFFSETTO:+0100
TZNAME:CET
DTSTART:20261025T010000
END:STANDARD
BEGIN:DAYLIGHT
TZOFFSETFROM:+0100
TZOFFSETTO:+0200
TZNAME:CEST
DTSTART:20270328T010000
END:DAYLIGHT
BEGIN:STANDARD
TZOFFSETFROM:+0200
TZOFFSETTO:+0100
TZNAME:CET
DTSTART:20271031T010000
END:STANDARD
BEGIN:DAYLIGHT
TZOFFSETFROM:+0100
TZOFFSETTO:+0200
TZNAME:CEST
DTSTART:20280326T010000
END:DAYLIGHT
BEGIN:STANDARD
TZOFFSETFROM:+0200
TZOFFSETTO:+0100
TZNAME:CET
DTSTART:20281029T010000
END:STANDARD
END:VTIMEZONE
BEGIN:VEVENT
DTSTART;TZID=Europe/Amsterdam:20270430T080000
DTEND;TZID=Europe/Amsterdam:20270507T170000
DTSTAMP:20260425T161332
CREATED:20240315T100736Z
LAST-MODIFIED:20251120T162511Z
UID:6946-1809072000-1809709200@goldcrestnaturetours.nl
SUMMARY:Voorjaarsvlinders en vogels in Andalusië
DESCRIPTION:Een prachtige natuurreis in Andalusië\, in het zuiden van Spanje. We gaan een week lang op zoek naar zeldzame en bijzondere dagvlinders\, orchideeën\, libellen en vogels. Samen met een kleine groep natuurliefhebbers\, onder deskundige begeleiding van Chris en Annemieke . Zij nemen u mee om\, vanuit twee natuurlijk gelegen accommodaties\, de golf van Almeria\, Sierra de Nevada en het achterland van Malaga te ontdekken. \n\n\n\nAndalusië\, een geweldige bestemming voor het spotten van voorjaarsvlinders\n\n\n\nHet zuiden van Spanje is een heerlijke bestemming om in het voorjaar te bezoeken. De soorten dagvlinders vliegen hier\, door de zuidelijke ligging\, al vroeg in ons vlinderseizoen. Zo maken we kans op wel vier soorten Oranjetipje. Naast het Oranjetipje ook het Zuidelijk-\, Vals- en Geeloranjetipje. Grote vlinders als de Spaanse pijpbloemvlinder wisselen we af met kleine vlinders zoals het Aardbeiboomgroentje en Groene klaverpage. De witjes zijn met een aantal speciale soorten een speciale vermelding waard. Zo vliegt hier het Klein-\, Gestreept\, Westelijk- en Spaans groen marmerwitje! Daarnaast de vele Spaanse en Moorse ondersoorten van de blauwtjes en parelmoervlinders. En dan nog de vele vogelsoorten die we kunnen gaan waarnemen: Scharrelaar\, Bijeneter\, Havikarend\, Zwarte tapuit\, enzovoort. U begrijpt het al\, we maken kans op een mooie soortenlijst.
URL:https://goldcrestnaturetours.nl/event/voorjaarsvlinders-in-andalusie/
LOCATION:Nog nader te bepalen\, Ridderstraat 5\, Heenvliet\, 3218 VR\, Netherlands
CATEGORIES:Natuurreizen,Vlinderreizen
ATTACH;FMTTYPE=image/jpeg:https://goldcrestnaturetours.nl/wp-content/uploads/2024/02/Spaanse-pijpbloemvlinder-imago-zerynthia-rumina.jpg
END:VEVENT
BEGIN:VEVENT
DTSTART;TZID=Europe/Amsterdam:20270617T080000
DTEND;TZID=Europe/Amsterdam:20270619T170000
DTSTAMP:20260425T161332
CREATED:20221121T112315Z
LAST-MODIFIED:20260224T203244Z
UID:5090-1813219200-1813424400@goldcrestnaturetours.nl
SUMMARY:Vlinderen in drie landen
DESCRIPTION:Wat gaan we doen?\n\n\n\nVlinderen in drie landen\, één unieke mogelijkheid om in Nederland\, Duitsland en België mooie soorten dagvlinders te zien. Elke dag een nieuwe omgeving waar weer andere vlindersoorten te vinden zijn. Zo kunnen we in Nederland het Boswitje en Koninginnepage aantreffen. Vlak over de grens met Duitsland zijn soorten als Zilveren Maan\, de Rode en Blauwe vuurvlinder en Kaasjeskruiddikkopje te vinden. In België kijken we uit naar het Groot geaderd witje\, Bont dikkopje en Ringoogparelmoervlinder. \n\n\n\n✓ Vanuit één hotel bezoeken we drie verschillende vlinderregio’s✓ Vervoer\, verblijf en alle maaltijden inbegrepen✓ België: Veenbesparelmoervlinder en Purperstreepparelmoervlinder✓ Duitsland: Kalkgraslanddikkopje en Pruimenpage✓ Nederland: Staartblauwtje\, Boswitje en Koninginnepage✓ Een grote diversiteit aan vlinders\, insecten en flora✓ Uitstekende (macro)fotografiemogelijkheden \n\n\n\ni.s.m de vlinderstichting\, ledenvoordeel inclusief donatie Beschermingsfonds
URL:https://goldcrestnaturetours.nl/event/vlinderreis-in-drie-landen/
LOCATION:P&R Meerhoven\, Sliffertsestraat 304\, Eindhoven\, 5657 AS
CATEGORIES:Natuurreizen,Vlinderreizen
ATTACH;FMTTYPE=image/jpeg:https://goldcrestnaturetours.nl/wp-content/uploads/2022/11/Groot-geaderd-witje.jpg
END:VEVENT
END:VCALENDAR