BEGIN:VCALENDAR
VERSION:2.0
PRODID:-//Goldcrest Nature Tours - ECPv6.15.20//NONSGML v1.0//EN
CALSCALE:GREGORIAN
METHOD:PUBLISH
X-ORIGINAL-URL:https://goldcrestnaturetours.nl
X-WR-CALDESC:Evenementen voor Goldcrest Nature Tours
REFRESH-INTERVAL;VALUE=DURATION:PT1H
X-Robots-Tag:noindex
X-PUBLISHED-TTL:PT1H
BEGIN:VTIMEZONE
TZID:Europe/Amsterdam
BEGIN:DAYLIGHT
TZOFFSETFROM:+0100
TZOFFSETTO:+0200
TZNAME:CEST
DTSTART:20220327T010000
END:DAYLIGHT
BEGIN:STANDARD
TZOFFSETFROM:+0200
TZOFFSETTO:+0100
TZNAME:CET
DTSTART:20221030T010000
END:STANDARD
BEGIN:DAYLIGHT
TZOFFSETFROM:+0100
TZOFFSETTO:+0200
TZNAME:CEST
DTSTART:20230326T010000
END:DAYLIGHT
BEGIN:STANDARD
TZOFFSETFROM:+0200
TZOFFSETTO:+0100
TZNAME:CET
DTSTART:20231029T010000
END:STANDARD
BEGIN:DAYLIGHT
TZOFFSETFROM:+0100
TZOFFSETTO:+0200
TZNAME:CEST
DTSTART:20240331T010000
END:DAYLIGHT
BEGIN:STANDARD
TZOFFSETFROM:+0200
TZOFFSETTO:+0100
TZNAME:CET
DTSTART:20241027T010000
END:STANDARD
BEGIN:DAYLIGHT
TZOFFSETFROM:+0100
TZOFFSETTO:+0200
TZNAME:CEST
DTSTART:20250330T010000
END:DAYLIGHT
BEGIN:STANDARD
TZOFFSETFROM:+0200
TZOFFSETTO:+0100
TZNAME:CET
DTSTART:20251026T010000
END:STANDARD
BEGIN:DAYLIGHT
TZOFFSETFROM:+0100
TZOFFSETTO:+0200
TZNAME:CEST
DTSTART:20260329T010000
END:DAYLIGHT
BEGIN:STANDARD
TZOFFSETFROM:+0200
TZOFFSETTO:+0100
TZNAME:CET
DTSTART:20261025T010000
END:STANDARD
BEGIN:DAYLIGHT
TZOFFSETFROM:+0100
TZOFFSETTO:+0200
TZNAME:CEST
DTSTART:20270328T010000
END:DAYLIGHT
BEGIN:STANDARD
TZOFFSETFROM:+0200
TZOFFSETTO:+0100
TZNAME:CET
DTSTART:20271031T010000
END:STANDARD
END:VTIMEZONE
BEGIN:VTIMEZONE
TZID:Europe/Paris
BEGIN:DAYLIGHT
TZOFFSETFROM:+0100
TZOFFSETTO:+0200
TZNAME:CEST
DTSTART:20220327T010000
END:DAYLIGHT
BEGIN:STANDARD
TZOFFSETFROM:+0200
TZOFFSETTO:+0100
TZNAME:CET
DTSTART:20221030T010000
END:STANDARD
BEGIN:DAYLIGHT
TZOFFSETFROM:+0100
TZOFFSETTO:+0200
TZNAME:CEST
DTSTART:20230326T010000
END:DAYLIGHT
BEGIN:STANDARD
TZOFFSETFROM:+0200
TZOFFSETTO:+0100
TZNAME:CET
DTSTART:20231029T010000
END:STANDARD
BEGIN:DAYLIGHT
TZOFFSETFROM:+0100
TZOFFSETTO:+0200
TZNAME:CEST
DTSTART:20240331T010000
END:DAYLIGHT
BEGIN:STANDARD
TZOFFSETFROM:+0200
TZOFFSETTO:+0100
TZNAME:CET
DTSTART:20241027T010000
END:STANDARD
BEGIN:DAYLIGHT
TZOFFSETFROM:+0100
TZOFFSETTO:+0200
TZNAME:CEST
DTSTART:20250330T010000
END:DAYLIGHT
BEGIN:STANDARD
TZOFFSETFROM:+0200
TZOFFSETTO:+0100
TZNAME:CET
DTSTART:20251026T010000
END:STANDARD
END:VTIMEZONE
BEGIN:VEVENT
DTSTART;TZID=Europe/Amsterdam:20260331T080000
DTEND;TZID=Europe/Amsterdam:20260407T170000
DTSTAMP:20260425T034515
CREATED:20240122T153413Z
LAST-MODIFIED:20251002T160302Z
UID:6764-1774944000-1775581200@goldcrestnaturetours.nl
SUMMARY:Vogelreis voorjaar op Cyprus
DESCRIPTION:Wat gaan we doen?\n\n\n\nDankzij de gunstige ligging op de vogeltrekroute tussen Afrika en Europa\, komen er jaarlijks meer dan 300 vogelsoorten op het eiland voor. In het voorjaar\, wanneer de vogeltrek op zijn hoogtepunt is\, is Cyprus een waar walhalla voor vogelaars. De ideale bestemming voor een vogelreis Cyprus in het voorjaar. Alles onder deskundige begeleiding van Chris en Annemieke die u meenemen naar de beste en mooiste vogelplekken op Cyprus. Een week lang gaan we op zoek naar trek-\, stand- en endemische vogelsoorten. Zoals de Cyprus Dwergooruil\, Cyprus Tapuit en Cyprus Grasmus\, soorten die alleen op dit eiland voorkomen. \n\n\n\nVogelen op een Mediterraan eiland\n\n\n\n✓ Top vogeleiland tijdens de voorjaars vogeltrek✓ Wellicht zien we een Groene bijeneter of Woestijnplevier✓ Endemische soorten als Cyprus tapuit en Cyprus Grasmus✓ Kans op Zwarte frankolijn\, Maskerklauwier en Sporenkievit✓ Begeleiding door twee enthousiaste Nederlandse vogelaars
URL:https://goldcrestnaturetours.nl/event/vogelreis-voorjaar-op-cyprus/
LOCATION:Schiphol\, Amsterdam\, Nederland
CATEGORIES:Natuurreizen,vogelreizen
ATTACH;FMTTYPE=image/jpeg:https://goldcrestnaturetours.nl/wp-content/uploads/2024/01/cyprus-grasmus-1.jpg
END:VEVENT
BEGIN:VEVENT
DTSTART;TZID=Europe/Amsterdam:20260221T090000
DTEND;TZID=Europe/Amsterdam:20260222T170000
DTSTAMP:20260425T034515
CREATED:20221121T113327Z
LAST-MODIFIED:20251213T115148Z
UID:5093-1771664400-1771779600@goldcrestnaturetours.nl
SUMMARY:Kraanvogelmigratie Zuid-Limburg
DESCRIPTION:Wat gaan we doen?\n\n\n\nJe gaat met ons mee op een tweedaagse Vogel- en Natuurexcursie in het zuiden van Limburg. Centraal staat de migratie\, oftewel de vogeltrek van de Kraanvogels\, die in deze periode noordwaarts trekken richting hun broedgebieden. De migratieroute van de Kraanvogels loopt over deze regio. Naast de Kraanvogels\, en andere trekkende vogels gaan we ook op zoek naar de vele standvogels in het Limburgs Heuvelland. In deze tijd van het jaar kunnen winterse omstandigheden het toch al prachtige landschap omtoveren tot een sprookje. Twee ontspannen dagen vogels kijken en natuur beleven in het zuiden van Limburg. Doordat we overnachten kunnen we in de avondschemer met de warmtebeeldkijker zoeken naar de Zoogdieren in Limburg. \n\n\n\n✓ Kans op grote groepen overvliegende Kraanvogels✓ Bosvogels zoals maar liefst vijf spechtensoorten en Kortsnavelboomkruiper✓ Roofvogels als Blauwe kiekendief\, Rode wouw en Velduil✓ Avondschemerexcursie met warmtebeeldcamera voor uilen en zoogdieren \n\n\n\n\n\n\n\n\n\n\n\n\n\n\n\n\nHome » Natuurreizen
URL:https://goldcrestnaturetours.nl/event/kraanvogelmigratie-in-limburg/
LOCATION:Nog nader te bepalen\, Ridderstraat 5\, Heenvliet\, 3218 VR\, Netherlands
CATEGORIES:Natuurreizen,vogelreizen
ATTACH;FMTTYPE=image/jpeg:https://goldcrestnaturetours.nl/wp-content/uploads/2022/11/Grote-groep-Kraanvogels-in-de-lucht-1.jpg
END:VEVENT
BEGIN:VEVENT
DTSTART;TZID=Europe/Amsterdam:20250912T080000
DTEND;TZID=Europe/Amsterdam:20250914T170000
DTSTAMP:20260425T034515
CREATED:20220922T100929Z
LAST-MODIFIED:20241117T113820Z
UID:4786-1757664000-1757869200@goldcrestnaturetours.nl
SUMMARY:Natuurschatten in de Belgische Ardennen-najaar
DESCRIPTION:Natuurbeleving in een bosrijk landschap\n\n\n\n✓  Een geheel verzorgd weekend in de Belgische Ardennen✓  Onder begeleiding van een ervaren natuurgids en vogelaar✓  Kans op soorten als de Notenkraker\, Waterspreeuw en Visarend✓  Avondschemer excursies voor zoogdieren en uilensoorten zoals de Dwerguil✓  Kleine groep met veel ruimte voor persoonlijke aandacht \n\n\n\n \n\n\n\nLees meer op Natuurschatten in de Belgische Ardennen
URL:https://goldcrestnaturetours.nl/event/natuurschatten-in-de-belgische-ardennen-deel-i/
LOCATION:P&R Genneper parken\, Aalsterweg 316\, Eindhoven\, 5644 RL
CATEGORIES:Natuurreizen,vogelreizen
ATTACH;FMTTYPE=image/jpeg:https://goldcrestnaturetours.nl/wp-content/uploads/2022/09/Roodbuikwaterspreeuw-1-scaled.jpg
END:VEVENT
BEGIN:VEVENT
DTSTART;TZID=Europe/Amsterdam:20250805T080000
DTEND;TZID=Europe/Amsterdam:20250812T170000
DTSTAMP:20260425T034515
CREATED:20240318T111854Z
LAST-MODIFIED:20240318T111856Z
UID:6961-1754380800-1755018000@goldcrestnaturetours.nl
SUMMARY:Vlinders en Libellen Sierra de Albarracin
DESCRIPTION:Deze vlinderreis naar de bergachtige omgeving van de Spaanse provincie Teruel wordt er één om niet gauw te vergeten. Vlinders en libellen zoeken\, bewonderen en fotograferen is het hoofddoel van deze week in het zuiden van de regio Aragon. Met bergen tot zo’n 18oo meter\, begroeit met weelderige bosvegetatie\, droge rivierbeddingen en ruimte voor ongerepte natuur is dit al jaren een waar vlinderparadijs. Ga jij mee naar de speciale endemische Spaanse dagvlinders? We kunnen hier in een week tijd wel 100 soorten dagvlinders treffen. En zeker niet de minste\, zoals het Rozen dikkopje\, Castiliaanse erebia\, Parelmoerblauwtje en de Bonte heremiet. \n\n\n\n✓ Kans op 100 soorten Dagvlinders zoals de Bonte heremiet en Castiliaanse Erebia✓ Bijzondere Libellensoorten zoals Noordelijke Bandgrondlibel en de Purperlibel✓ Bergachtige provincie Teruel\, met het mooiste dorpje van Spanje; Albarracín✓ Begeleiding van twee enthousiaste natuurgidsen en vlinderspecialisten✓ Ruimte voor natuur- en macrofotografie✓ Vliegtickets optioneel bij te boeken
URL:https://goldcrestnaturetours.nl/event/vlinders-en-libellen-sierra-de-albarracin/
CATEGORIES:Natuurreizen,Vlinderreizen
ATTACH;FMTTYPE=image/jpeg:https://goldcrestnaturetours.nl/wp-content/uploads/2022/12/Purperlibel.jpg
END:VEVENT
BEGIN:VEVENT
DTSTART;TZID=Europe/Amsterdam:20250708T080000
DTEND;TZID=Europe/Amsterdam:20250715T170000
DTSTAMP:20260425T034515
CREATED:20240315T102617Z
LAST-MODIFIED:20250314T114257Z
UID:6950-1751961600-1752598800@goldcrestnaturetours.nl
SUMMARY:Vlinders en Libellen spotten op Cyprus
DESCRIPTION:We gaan een super gave vlinder- en libellenreis maken naar Cyprus. Een week lang op zoek naar bijzondere soorten insecten op dit fraaie eiland in het oostelijke Middellandse Zeegebied. Met een gevarieerde natuur\, een mediterraan klimaat\, vulkanische bergen en een rijke flora en fauna maakt het een ideale bestemming voor natuurliefhebbers. Samen met een kleine groep vlinder- en libellenliefhebbers\, onder deskundige begeleiding van Chris en Annemieke die u meenemen naar de beste en mooiste locaties. \n\n\n\n✓ Zeldzame en endemische vlinders en libellen✓ Cypriotisch heliotroopblauwtje en Cyprus heivlinder✓ Mogelijke Oostelijke zilverstreep✓ Perzisch lantaarntje en Moriaantje✓ Begeleiding door twee enthousiaste Nederlandse vlinderspecialisten
URL:https://goldcrestnaturetours.nl/event/vlinders-en-libellen-op-cyprus/
LOCATION:Schiphol\, Amsterdam\, Nederland
CATEGORIES:Natuurreizen,Vlinderreizen
ATTACH;FMTTYPE=image/jpeg:https://goldcrestnaturetours.nl/wp-content/uploads/2024/01/Orientjuffer-Epallage-fatime.jpg
END:VEVENT
BEGIN:VEVENT
DTSTART;TZID=Europe/Paris:20240822T080000
DTEND;TZID=Europe/Paris:20240826T200000
DTSTAMP:20260425T034515
CREATED:20201213T210402Z
LAST-MODIFIED:20230331T090756Z
UID:1444-1724313600-1724702400@goldcrestnaturetours.nl
SUMMARY:Zee-vogelen in Noordwest Spanje
DESCRIPTION:Zee-vogelen in Noordwest Spanje! Uw kans op grote aantallen zeevogels.\nVanuit de kaap Estaca de Bares tuurt u over zee op zoek naar die prachtige Grote Pijlstormvogel \, en op volle zee maakt u de mooiste foto’s van het Wilsons stormvogeltje of een Vorkstaartmeeuw. Maak kans op een Grote jager\, Middelste jager\, Kleine jager en Kleinste jager. En geniet van de duikende Jan van Genten naast de boot. \nWij hebben voor u een mooie natuurreis samengesteld\, inclusief:✓ Transport ter plaatse✓ Hotel overnachtingen✓ Alle maaltijden✓ Twee Pelagic boottochten (kleine boot met max. 10 personen) \nLiever niet met het vliegtuig? Noordwest Spanje is ook goed met de auto en trein te bereiken\, reken op extra overnachtingen. \nVertrekdatum: 22-08-2024 t/m 26-08-2024\nBekijk hier het volledige programma Zee-vogelen in Noordwest Spanje
URL:https://goldcrestnaturetours.nl/event/zee-vogelen-in-noordwest-spanje/
LOCATION:Schiphol\, Amsterdam\, Nederland
CATEGORIES:Fotografiereizen,Meerdaagse tour,Natuurreizen,Vogelreis,vogelreizen
ATTACH;FMTTYPE=image/jpeg:https://goldcrestnaturetours.nl/wp-content/uploads/2020/12/dsc3567-e1668083257481.jpg
ORGANIZER;CN="Goldcrest Nature Tours":MAILTO:goldcrestnaturetours@gmail.com
END:VEVENT
BEGIN:VEVENT
DTSTART;TZID=Europe/Amsterdam:20240808T080000
DTEND;TZID=Europe/Amsterdam:20240815T170000
DTSTAMP:20260425T034515
CREATED:20231010T134206Z
LAST-MODIFIED:20240806T112042Z
UID:6054-1723104000-1723741200@goldcrestnaturetours.nl
SUMMARY:Vlinders en Libellen in Sierra de Albarracin
DESCRIPTION:Een vlinderreis in de Spaanse provincie Teruel\n\n\n\n✓ Kans op 100 soorten Dagvlinders zoals de Bonte heremiet en Castiliaanse Erebia✓ Bijzondere Libellensoorten zoals Noordelijke Bandgrondlibel en de Purperlibel✓ Bergachtige provincie Teruel\, met het mooiste dorpje van Spanje; Albarracín✓ Begeleiding van twee enthousiaste natuurgidsen en vlinderspecialisten✓ Ruimte voor natuur- en macrofotografie✓ Vliegtickets optioneel bij te boeken
URL:https://goldcrestnaturetours.nl/event/vlinders-en-libellen-in-sierra-de-albarracin/
CATEGORIES:Natuurreizen,Vlinderreizen
ATTACH;FMTTYPE=image/jpeg:https://goldcrestnaturetours.nl/wp-content/uploads/2023/10/DSC9591-e1696945283689.jpg
END:VEVENT
BEGIN:VEVENT
DTSTART;TZID=Europe/Amsterdam:20240708T080000
DTEND;TZID=Europe/Amsterdam:20240714T170000
DTSTAMP:20260425T034515
CREATED:20221130T174013Z
LAST-MODIFIED:20221130T174016Z
UID:5146-1720425600-1720976400@goldcrestnaturetours.nl
SUMMARY:Vlinderen in de Zwitserse Alpen
DESCRIPTION:Wat gaan we doen?\n\n\n\nDe Zwitserse Alpen is één van de beste plekken om bijzondere vlinders te zien. We gaan een week lang op zoek naar de vlinders van het hooggebergte. De vlinders in de Alpen zijn gespecialiseerd om in moeilijke omstandigheden te overleven. Een plek waar het in de winter koud en ijzig is en de bloemenweides bedekt onder meters sneeuw. En in de korte zomer\, als alles tot bloei komt\, er geen tijd te verliezen is om voor nageslacht te zorgen. \n\n\n\nJe vindt hier soorten die alleen boven een bepaalde hoogtegrens voorkomen en soms alleen in een bepaalde regio. Vanaf twee prachtig gelegen locaties bezoeken we elke dag een mooi vlindergebied. We maken korte wandelingen en maken gebruik van de aanwezige kabelbanen om hoger op de berg te komen. Het wordt een heerlijke ontspannen week in een fantastische omgeving omringt door veel natuurschoon. \n\n\n\nOp zoek naar de Alpine vlinders\n\n\n\n✓ Op reis met dé vlinderreizen specialist✓ Bloemende weides met bloemen\, kruiden en Alpine planten✓ Begeleiding van twee ervaren gidsen\, vlinderspecialisten✓ Veel ruimte voor fotografie met nabesprekingen✓ Eco! Reis met de trein en gezamenlijke minibus✓ Kleine groep = 100% natuurbeleving en persoonlijke aandacht
URL:https://goldcrestnaturetours.nl/event/vlinderen-in-de-zwitserse-alpen-2/
LOCATION:Bern\, Bahnhof\, 3011\, Bern\, Zwitserland
CATEGORIES:Natuurreizen,Vlinderreizen
ATTACH;FMTTYPE=image/jpeg:https://goldcrestnaturetours.nl/wp-content/uploads/2022/11/IMG_5584_1-scaled-e1669829928605.jpg
END:VEVENT
BEGIN:VEVENT
DTSTART;TZID=Europe/Amsterdam:20240516T080000
DTEND;TZID=Europe/Amsterdam:20240523T170000
DTSTAMP:20260425T034515
CREATED:20231006T111756Z
LAST-MODIFIED:20231119T134320Z
UID:6022-1715846400-1716483600@goldcrestnaturetours.nl
SUMMARY:Vogelreis Lapland en Varanger
DESCRIPTION:Beleef het voorjaar in het noorden van Lapland en het Varanger schiereiland\n\n\n\n✓ Roofvogels als Giervalk\, Steenarend en Zeearend✓ Papegaaiduiker en Kortbekzeekoet op Hornøya✓ Hoenders en zangvogels van het hoge noorden✓ Zes deelnemers en twee bevlogen gidsen✓ Prachtige Arctische toendra en ander natuurschoon✓ Walvissen als Vinvissen en Bultrug \n\n\n\n8 dagen\, vogelspektakel en adembenemende natuurbeleving\n\n\n\nVertrekdatum: 16-05-2024 t/m 23-05-2024 (vertrek vanuit Brussel Airport)
URL:https://goldcrestnaturetours.nl/event/vogelreis-lapland-en-varanger/
CATEGORIES:Natuurreizen,vogelreizen
ATTACH;FMTTYPE=image/jpeg:https://goldcrestnaturetours.nl/wp-content/uploads/2020/10/140215_8105_1-scaled-e1696591058911.jpg
END:VEVENT
BEGIN:VEVENT
DTSTART;TZID=Europe/Amsterdam:20240410T080000
DTEND;TZID=Europe/Amsterdam:20240417T170000
DTSTAMP:20260425T034515
CREATED:20221121T151835Z
LAST-MODIFIED:20231005T153722Z
UID:5100-1712736000-1713373200@goldcrestnaturetours.nl
SUMMARY:Vogelreis: Voorjaar in Extremadura
DESCRIPTION:Wat gaan we doen?\n\n\n\nEen week lang vogelen in een vogelaars bestemming bij uitstek\, het Spaanse Extremadura. \n\n\n\nDeze Vogelreis: voorjaar in Extremadura staat garant voor een geweldig vogelspektakel. Als naast de standvogels ook alle vogels uit hun overwinteringsgebieden terug zijn breekt de tijd van het broedseizoen aan. De natuur en haar bewoners doen er alles aan om te kunnen reproduceren. De flora is op zijn mooist en de fauna is druk bezig met het zoeken naar een partner en een geschikte broedgelegenheid. Precies in deze tijd kunnen wij als natuur- en vogelliefhebbers getuige zijn van dit wonderlijke schouwspel. \n\n\n\nOp een relaxte en rustige wijze genieten van de vele soorten vogels\, flora en landschappen. Alles onder deskundige begeleiding van Chris en Annemieke die jou meenemen naar de beste en mooiste vogelplekken van Extremadura. \n\n\n\nVogelen in het Spaanse Extremadura\n\n\n\n” The place to be” voor elke vogel- én natuurliefhebber! \n\n\n\n✓ Vogels van de bergen\, dehessa’s\, steppe- en moerasgebied✓ Kans op Spaanse Keizerarend\, Grijze wouw en Grote Trap✓ Genieten van de Bijeneter\, Scharrelaar en Kleine Torenvalk✓ Bezoek aan de Gierenrots ‘ Salto de Gitano’✓ Orchideeën als Gewone Tongorchis\, Italiaanse Orchis en Wolzweverorchis✓ Begeleiding van twee enthousiaste Nederlandse gidsen \n\n\n\n17-04-2024 t/m 24-04-2024\n\n\n\nVragen over deze vogelreis? Neem Contact met ons op.
URL:https://goldcrestnaturetours.nl/event/vogelreis-voorjaar-in-extremadura-2/
LOCATION:Schiphol\, Amsterdam\, Nederland
CATEGORIES:Natuurreizen,vogelreizen
ATTACH;FMTTYPE=image/jpeg:https://goldcrestnaturetours.nl/wp-content/uploads/2022/11/Vale-gier-in-vlucht-scaled.jpg
END:VEVENT
BEGIN:VEVENT
DTSTART;TZID=Europe/Amsterdam:20231027T080000
DTEND;TZID=Europe/Amsterdam:20231029T170000
DTSTAMP:20260425T034515
CREATED:20221116T100618Z
LAST-MODIFIED:20221116T100622Z
UID:5047-1698393600-1698598800@goldcrestnaturetours.nl
SUMMARY:Kraanvogeltrek akker- en bosvogels in Diepholz
DESCRIPTION:Wat gaan we doen?\n\n\n\nWe gaan in de omgeving van Diepholz-Duitsland de Kraanvogeltrek beleven. Precies op het moment als tienduizenden Kraanvogels hun migratie naar het zuiden volbrengen en een rustmoment hebben in Diepholz. Op de akkers en in de veengebieden zoeken we naar grote groepen Kraanvogels. Gecombineerd met de vele leuke soorten akkervogels zoals Patrijs\, Graspieper\, Kramsvogel\, Veldleeuwerik\, Kolganzen\, Toendrarietganzen\, Blauwe kiekendief en Velduil. En we maken een wandeling in een gevarieerd bos voor bosvogels als Sijs\, Kruisbek en diverse spechtensoorten zoals de Zwarte specht. Maar ook gaan we op zoek naar roestplekken van de Bosuil en de Ransuil. Een driedaagse vogelexcursie met alles erop en eraan\, kans op mooie niet alledaagse vogelsoorten en goede fotografische mogelijkheden.
URL:https://goldcrestnaturetours.nl/event/kraanvogeltrek-akker-en-bosvogels-in-diepholz/
LOCATION:7622 GM Hengelo\, Parkeerplaats\, Hengelo\, 7622 GM
CATEGORIES:Natuurreizen,vogelreizen
ATTACH;FMTTYPE=image/jpeg:https://goldcrestnaturetours.nl/wp-content/uploads/2022/11/Kraanvogels.jpg
END:VEVENT
BEGIN:VEVENT
DTSTART;TZID=Europe/Paris:20230724T080000
DTEND;TZID=Europe/Paris:20230730T170000
DTSTAMP:20260425T034515
CREATED:20210308T143838Z
LAST-MODIFIED:20220908T094111Z
UID:2090-1690185600-1690736400@goldcrestnaturetours.nl
SUMMARY:Dagvlinders zoeken in de Aosta vallei
DESCRIPTION:Vlinderen tussen de bergreuzen in Noord-Italië\n✓ Enthousiaste begeleiding van twee Nederlandse vlinderspecialisten\n✓ Kleine groep = persoonlijke aandacht\n✓ Ecologisch verantwoorde reis met gezamenlijk vervoer ter plaatse\n✓ Bijzondere dagvlinders van het hooggebergte\n✓ Grote aantallen dagvlinders en Alpine planten\n✓ Leerzaam door dagelijkse gezamenlijke determinatie moment\n✓ Kleinschalige authentieke accommodatie en restaurants \nVertrekdatum: 24 juli t/m 30 juli 2023\nU gaat zo genieten van deze tour\, dagvlinders zoeken in de Aosta vallei\, een echte must voor elke vlinder liefhebber. Een week  lang naar de mooiste alpenweides in Noord Italië om op zoek te gaan naar prachtige soorten als Aosta Esparcetteblauwtje\, Zilverbruinblauwtje\, Glanserebia\, Alpenspikkeldikkopje\, Purperstreep parelmoervlinder\, Kleine Apollovlinder en zoveel meer. \nBekijk het hele programma Dagvlinders zoeken in de Aosta vallei
URL:https://goldcrestnaturetours.nl/event/dagvlinders-zoeken-in-de-aosta-vallei/
CATEGORIES:Fotografiereizen,Natuurreizen,Vlinderreizen
ATTACH;FMTTYPE=image/jpeg:https://goldcrestnaturetours.nl/wp-content/uploads/2021/03/Aosta-esparcetteblauwtje-2.jpg
END:VEVENT
BEGIN:VEVENT
DTSTART;TZID=Europe/Paris:20230710T080000
DTEND;TZID=Europe/Paris:20230716T170000
DTSTAMP:20260425T034515
CREATED:20220624T134129Z
LAST-MODIFIED:20220908T094320Z
UID:4270-1688976000-1689526800@goldcrestnaturetours.nl
SUMMARY:Vlinderen in de Zwitserse Alpen
DESCRIPTION:De Zwitserse Alpen is één van de beste plekken om bijzondere vlinders te zien. We gaan een week lang op zoek naar de vlinders van het hooggebergte. De vlinders in de Alpen zijn gespecialiseerd om in moeilijke omstandigheden te overleven. Een plek waar het in de winter koud en ijzig is en de bloemenweides bedekt onder meters sneeuw. En in de korte zomer\, als alles tot bloei komt\, er geen tijd te verliezen is om voor nageslacht te zorgen. \nJe vindt hier soorten die alleen boven een bepaalde hoogtegrens voorkomen en soms alleen in een bepaalde regio. Vanaf twee prachtig gelegen locaties bezoeken we elke dag een mooi vlindergebied. We maken korte wandelingen en maken gebruik van de aanwezige kabelbanen om hoger op de berg te komen. Het wordt een heerlijke ontspannen week in een fantastische omgeving omringt door veel natuurschoon. \nOp zoek naar dé Alpine vlinders\n✓ Op reis met dé vlinderreizen specialist\n✓ Bloemende weides met bloemen\, kruiden en Alpine planten\n✓ Begeleiding van twee ervaren gidsen\, vlinderspecialisten\n✓ Veel ruimte voor fotografie met nabesprekingen\n✓ Eco! Reis met de trein en gezamenlijke minibus\n✓ Kleine groep van maximaal zes personen = 100% natuurbeleving en persoonlijke aandacht \nDatum: 10 t/m 16 juli 2023
URL:https://goldcrestnaturetours.nl/event/vlinderen-in-de-zwitserse-alpen/
LOCATION:Bern\, Bahnhof\, 3011\, Bern\, Zwitserland
CATEGORIES:Natuurreizen,Vlinderreizen
ATTACH;FMTTYPE=image/jpeg:https://goldcrestnaturetours.nl/wp-content/uploads/2022/06/Apollo-imago-@Chris-de-Nooijer.jpg
END:VEVENT
BEGIN:VEVENT
DTSTART;TZID=Europe/Amsterdam:20230616T080000
DTEND;TZID=Europe/Amsterdam:20230618T170000
DTSTAMP:20260425T034515
CREATED:20221121T114508Z
LAST-MODIFIED:20230108T134211Z
UID:5096-1686902400-1687107600@goldcrestnaturetours.nl
SUMMARY:Groepsexcursie op maat
DESCRIPTION:Groepsexcursie op maat in de Eifel\, Duitsland. We gaan op zoek naar vogels\, vlinders\, insecten en zoogdieren. Drie dagen 100 % natuurbeleving volledig verzorgd en een op maat samengesteld programma. \n\n\n\nMet uw eigen groep een Natuurexcursie beleven?\n\n\n\n✓ Vier uw verjaardag\, trouwdag of jubileum met een natuurexcursie✓ Versterk je team met een Teambuilding experience in de natuur✓ Dagexcursie in Nederland✓ Natuurreis in Nederland of Europa✓ Natuurbeleving en natuurfotografie \n\n\n\nBegeleid door een ervaren en enthousiaste natuurgids\n\n\n\nHet gehele jaar te boeken\, vraag een offerte aan via Contact
URL:https://goldcrestnaturetours.nl/event/groepsexcursie-op-maat/
LOCATION:P&R Meerhoven\, Sliffertsestraat 304\, Eindhoven\, 5657 AS
CATEGORIES:Natuurreizen
ATTACH;FMTTYPE=image/jpeg:https://goldcrestnaturetours.nl/wp-content/uploads/2022/11/prive-groepsexcursie-Limburg-4.jpg
END:VEVENT
BEGIN:VEVENT
DTSTART;TZID=Europe/Paris:20230607T060000
DTEND;TZID=Europe/Paris:20230608T180000
DTSTAMP:20260425T034515
CREATED:20211017T171305Z
LAST-MODIFIED:20220908T094539Z
UID:3249-1686117600-1686247200@goldcrestnaturetours.nl
SUMMARY:Vlinderen in de Eifel
DESCRIPTION:✓ Onder leiding van een ervaren gids/natuurfotograaf✓ Fotografiereis✓ Groep van maximaal 6 personen\nTwee dagen vlinders en orchideeën kijken en fotograferen in de Eifel-Duitsland\nNet over de grens met Duitsland vind je de prachtige natuur van de Eifel. We gaan vlinders zoeken en fotograferen. Het kalkzandsteengebergte van de Eifel trekt vele soorten dagvlinders aan die je niet in Nederland treft. De extensief bewerkte Bloemweides met veel soorten bloemen en kruiden zorgen voor veel biodiversiteit. \nDagvlinders als Blauwe en Rode Vuurvlinder\, Ringoogparelmoervlinder\, Dambordje en Kaasjeskruiddikkopje komen hier voor. We maken kans op wilde Orchideeën als Klein Bosvogeltje\, Hommelorchis en Grote Muggenorchis. \nVervoer met een comfortabele minibus vanuit Nederland\, hotel/B&B op basis van volpension is inbegrepen. Gezamenlijke fotobespreking met tips & tricks. \nIs uw interesse gewekt\, ga mee en beleef het! \nLees de gehele tourinformatie op  Vlinderen in de Eifel
URL:https://goldcrestnaturetours.nl/event/vlinderen-in-de-eifel/
LOCATION:P+R Transferium Meerhoven\, Sliffertsestraat 304\, Eindhoven\, 5657AS\, Netherlands
CATEGORIES:Fotografiereizen,Natuurreizen,Vlinderreizen
ATTACH;FMTTYPE=image/jpeg:https://goldcrestnaturetours.nl/wp-content/uploads/2021/10/Rode-vuurvlinder.jpg
END:VEVENT
BEGIN:VEVENT
DTSTART;TZID=Europe/Paris:20230602T080000
DTEND;TZID=Europe/Paris:20230604T180000
DTSTAMP:20260425T034515
CREATED:20210721T112840Z
LAST-MODIFIED:20220908T094611Z
UID:2646-1685692800-1685901600@goldcrestnaturetours.nl
SUMMARY:Vlinderen in de Viroinvallei
DESCRIPTION:Drie dagen vlinders en orchideeën kijken en fotograferen in zuid-België\nVoorjaarseditie!\nIn het zuiden van de Belgische Ardennen vindt je vlinders en orchideeën waar je hart sneller van gaat kloppen. Ben je een liefhebber van vlinders en wilde planten dan moet  je hier een keer geweest zijn.  Het kalkgesteente trekt vele soorten dagvlinders aan die je niet in Nederland treft. De extensief bewerkte Bloemweides met veel soorten bloemen en kruiden zorgen voor veel biodiversiteit. Dagvlinders als Kleine en Grote Weerschijnvlinder\, Zilvervlek\, Klaverblauwtje\, Dambordje\, Kalkgraslanddikkopje en Kaasjeskruiddikkopje komen hier voor. We maken kans op wilde Orchideeën als de Poppenorchis\, Bosvogeltje\, Hommelorchis en Grote Muggenorchis. Vervoer met een comfortabele minibus\, overnachtingen en alle maaltijden zijn inbegrepen. En natuurlijk ontbreekt uw Nederlandstalige Goldcrest gids niet. Is uw interesse gewekt\, ga met ons mee en beleef het! \nLees HIER het gehele tourprogramma
URL:https://goldcrestnaturetours.nl/event/vlinderen-in-de-viroinvallei-2/
LOCATION:P+R Transferium Meerhoven\, Sliffertsestraat 304\, Eindhoven\, 5657AS\, Netherlands
CATEGORIES:Fotografiereizen,Natuurreizen,Vlinderreizen
ATTACH;FMTTYPE=image/jpeg:https://goldcrestnaturetours.nl/wp-content/uploads/2021/07/Groot-geaderd-witje-2.jpg
END:VEVENT
BEGIN:VEVENT
DTSTART;TZID=Europe/Paris:20230508T080000
DTEND;TZID=Europe/Paris:20230518T170000
DTSTAMP:20260425T034515
CREATED:20211108T101350Z
LAST-MODIFIED:20220908T094726Z
UID:3436-1683532800-1684429200@goldcrestnaturetours.nl
SUMMARY:Vogels kijken in Finland en Varanger
DESCRIPTION:Vogelen in Fins Lapland\, Kuusamo en Varanger\n✓ Ongerepte natuur met veel ruimte\, rust en stilte\n✓ Broedvogels van de Taiga en de Toendra\n✓ Schiereiland Varanger met dé zangvogels van het hoge noorden\n✓ Vogeleiland Hornøya met grote kolonie broedende zeevogels\n✓ Het land van de Beer\, Wolf\, Wolverine\, Eland en Rendier\n✓ Begeleiding van ervaren natuurgidsen en vogelaars \nEen bijzondere en avontuurlijke bestemming (11 dagen)\nBekijk de uitgebreide tourinformatie op Vogels kijken in Finland en Varanger
URL:https://goldcrestnaturetours.nl/event/vogels-kijken-in-finland-en-varanger/
LOCATION:Schiphol\, Amsterdam\, Nederland
CATEGORIES:Fotografiereizen,Natuurreizen,vogelreizen
ATTACH;FMTTYPE=image/jpeg:https://goldcrestnaturetours.nl/wp-content/uploads/2021/11/Blauwstaart.jpg
END:VEVENT
END:VCALENDAR