BEGIN:VCALENDAR
VERSION:2.0
PRODID:-//Goldcrest Nature Tours - ECPv6.15.20//NONSGML v1.0//EN
CALSCALE:GREGORIAN
METHOD:PUBLISH
X-ORIGINAL-URL:https://goldcrestnaturetours.nl
X-WR-CALDESC:Evenementen voor Goldcrest Nature Tours
REFRESH-INTERVAL;VALUE=DURATION:PT1H
X-Robots-Tag:noindex
X-PUBLISHED-TTL:PT1H
BEGIN:VTIMEZONE
TZID:Europe/Amsterdam
BEGIN:DAYLIGHT
TZOFFSETFROM:+0100
TZOFFSETTO:+0200
TZNAME:CEST
DTSTART:20250330T010000
END:DAYLIGHT
BEGIN:STANDARD
TZOFFSETFROM:+0200
TZOFFSETTO:+0100
TZNAME:CET
DTSTART:20251026T010000
END:STANDARD
BEGIN:DAYLIGHT
TZOFFSETFROM:+0100
TZOFFSETTO:+0200
TZNAME:CEST
DTSTART:20260329T010000
END:DAYLIGHT
BEGIN:STANDARD
TZOFFSETFROM:+0200
TZOFFSETTO:+0100
TZNAME:CET
DTSTART:20261025T010000
END:STANDARD
BEGIN:DAYLIGHT
TZOFFSETFROM:+0100
TZOFFSETTO:+0200
TZNAME:CEST
DTSTART:20270328T010000
END:DAYLIGHT
BEGIN:STANDARD
TZOFFSETFROM:+0200
TZOFFSETTO:+0100
TZNAME:CET
DTSTART:20271031T010000
END:STANDARD
END:VTIMEZONE
BEGIN:VEVENT
DTSTART;TZID=Europe/Amsterdam:20260516T070000
DTEND;TZID=Europe/Amsterdam:20260516T110000
DTSTAMP:20260424T182924
CREATED:20250917T161151Z
LAST-MODIFIED:20250917T161152Z
UID:7413-1778914800-1778929200@goldcrestnaturetours.nl
SUMMARY:Excursie vogelgeluiden in de Beningerslikken
DESCRIPTION:Kans op zingende Blauwborst en Rietzanger. Veel eenden\, ganzen en andere watervogels. Roofvogels als de Bruine kiekendief en Torenvalk\, wellicht zien we de “vliegende deur” de Zeearend. \n\n\n\nWe maken een Vroege vogelwandeling in de Beningerslikken. De wandeling van ongeveer 5 km lang in een getijde natuurgebied. Vanaf ons vertrekpunt lopen we naar de uitkijktoren waarvandaan je een prachtig uitzicht hebt over het natuurgebied\, het Spui en het Haringvliet. Omdat we zo vroeg zijn maken we het ochtendconcert van de vele soorten vogels mee. \n\n\n\nOok op 18 april 2026!
URL:https://goldcrestnaturetours.nl/event/excursie-vogelgeluiden-in-de-beningerslikken/
LOCATION:Parkeerplaats kijktoren Spuimonding west\, Zuidoordsedijk\, Zuidland\, Nederland
CATEGORIES:dagexcursie,Vogelexcursie
ATTACH;FMTTYPE=image/jpeg:https://goldcrestnaturetours.nl/wp-content/uploads/2024/11/Zomertaling-in-de-Wolvenpolder.jpg
END:VEVENT
BEGIN:VEVENT
DTSTART;TZID=Europe/Amsterdam:20260516T080000
DTEND;TZID=Europe/Amsterdam:20260516T120000
DTSTAMP:20260424T182924
CREATED:20221130T170743Z
LAST-MODIFIED:20251002T152756Z
UID:5140-1778918400-1778932800@goldcrestnaturetours.nl
SUMMARY:Vogelexcursie Kwade Hoek
DESCRIPTION:Vogels en Orchideeën in de Duinen van Goeree\n\n\n\n✓ Ochtend excursie in de Duinen van Goeree✓ Ervaren enthousiaste lokale natuurgids en vogelaar✓ 100% natuurbeleving met veel vogels\, insecten en zeldzame planten✓ Kans op Zomertortel\, Roerdomp en Nachtegaal✓ Duinvalleien vol met Orchideeën
URL:https://goldcrestnaturetours.nl/event/natuurexcursie-op-goeree-voorjaar/
LOCATION:Parkeerplaats Kwade Hoek\, Oostdijkseweg 100\, Goedereede\, 3252 LM\, Netherlands
CATEGORIES:dagexcursie,Vogelexcursie
ATTACH;FMTTYPE=image/jpeg:https://goldcrestnaturetours.nl/wp-content/uploads/2022/11/Zomertortel.jpg
END:VEVENT
BEGIN:VEVENT
DTSTART;TZID=Europe/Amsterdam:20260523T080000
DTEND;TZID=Europe/Amsterdam:20260523T120000
DTSTAMP:20260424T182924
CREATED:20240101T161821Z
LAST-MODIFIED:20260302T172951Z
UID:6621-1779523200-1779537600@goldcrestnaturetours.nl
SUMMARY:Vlinder en libellenexcursie Voornes Duin - voorjaar
DESCRIPTION:Wat gaan we doen?\n\n\n\nSamen met Michael \, een ervaren en enthousiaste lokale natuurgids gaat u op zoek naar de voorjaars vlinders en libellen in het Voornes Duin. Gelegen op het Zuid-Hollandse eiland Voorne Putten is dit duingebied één van de rijkste van Europa. We maken enkele korte wandelingen waarbij we de beste locaties bezoeken om mooie dagvlinder en libellensoorten waar te nemen. Dit Natura 2000 gebied is van groot belang voor inheemse flora en de vele insecten. Dit draagt bij aan de grote biodiversiteit die in de Duinen van Voorne aanwezig is. Een belangrijke buffer in een door industrie gedomineerde regio. Chris is een specialist op het gebied van Dagvlinders en Libellen. Zo kan hij u veel vertellen over de verschillende soorten\, hun leefwijze en hoe u zelf de soorten kunt leren herkennen.
URL:https://goldcrestnaturetours.nl/event/vlinder-en-libellenexcursie-voornes-duin-voorjaar/
LOCATION:Nog nader te bepalen\, Ridderstraat 5\, Heenvliet\, 3218 VR\, Netherlands
CATEGORIES:dagexcursie,Vlinderexcursie
ATTACH;FMTTYPE=image/jpeg:https://goldcrestnaturetours.nl/wp-content/uploads/2023/12/Veldparelmoervlinder-imago-met-dichte-vleugels.jpg
END:VEVENT
BEGIN:VEVENT
DTSTART;TZID=Europe/Amsterdam:20260523T080000
DTEND;TZID=Europe/Amsterdam:20260523T150000
DTSTAMP:20260424T182924
CREATED:20251027T112305Z
LAST-MODIFIED:20251120T163156Z
UID:9478-1779523200-1779548400@goldcrestnaturetours.nl
SUMMARY:Vogels kijken in Groningen
DESCRIPTION:Vogels kijken in Groningen: riet-\,moeras- en roofvogels. Deze vogelexcursie heeft alles waar een vogelaar blij van wordt. Eerst zoeken we de nattige graslanden en veenweides op om soorten als Steltkluut\, Porseleinhoen\, Geoorde Fuut en Witwangstern te bekijken. In het riet vinden we vogelsoorten als Snor\, Sprinkhaanzanger en Roerdomp. Als de dag vordert verplaatsen we ons naar de akkers en velden van noordoost Groningen. Daar vinden we fantastische roofvogelsoorten als de Grauwe Kiekendief en zelfs de zeldzame Steppekiekendief. Vanaf gepaste afstand kunnen we deze vogels bewonderen als ze hun baltsvluchten uitvoeren boven de velden. Naast de zeldzame Kiekendieven vinden we hier ook veel Torenvalken\, grote groepen akkervogels\, Kwartel en maken we kans op een dag actieve Velduil. \n\n\n\n✓ Moerasvogels als Steltkluut\, Witwangstern en Zomertaling✓ Rietvogels als Snor\, Sprinkhaanzanger en Paapje✓ Kans op Grauwe en Steppekiekendief✓ Begeleiding van twee lokale enthousiaste vogelaars: Meino  & Dorris
URL:https://goldcrestnaturetours.nl/event/vogels-kijken-in-groningen/
LOCATION:Nog nader te bepalen\, Ridderstraat 5\, Heenvliet\, 3218 VR\, Netherlands
CATEGORIES:dagexcursie,Vogelexcursie
ATTACH;FMTTYPE=image/jpeg:https://goldcrestnaturetours.nl/wp-content/uploads/2025/10/Afbeelding.jpeg
END:VEVENT
BEGIN:VEVENT
DTSTART;TZID=Europe/Amsterdam:20260606T104500
DTEND;TZID=Europe/Amsterdam:20260606T150000
DTSTAMP:20260424T182924
CREATED:20251015T152445Z
LAST-MODIFIED:20251120T162942Z
UID:9407-1780742700-1780758000@goldcrestnaturetours.nl
SUMMARY:Rock pooling langs de Zeeuwse kust
DESCRIPTION:Langs de kust van Zeeland schuilt een wereld vol kleur en beweging — je hoeft alleen maar goed te kijken. Tijdens deze unieke excursie neemt marien bioloog Rose Ommering je mee naar de ondiepe poeltjes die bij eb achterblijven tussen de stenen. Deze kleine werelden\, ook wel rock pools genoemd\, zitten vol leven en verrassingen. \n\n\n\nOnderwaterleven in Zeeuwse getijdenpoelen\n\n\n\nDeze getijdenpoelen vormen een uniek biotoop waar zout water\, zonlicht en getij samen een mini-ecosysteem creëren. Hier ontdek je een verbazingwekkende rijkdom aan soorten zoals Levendbarende slangster\, Flamenco-platworm en Harig porseleinkrabbetje. En dat gewoon langs de kust in Zeeland!
URL:https://goldcrestnaturetours.nl/event/rock-pooling-langs-de-zeeuwse-kust/
LOCATION:Nog nader te bepalen\, Ridderstraat 5\, Heenvliet\, 3218 VR\, Netherlands
CATEGORIES:dagexcursie
ATTACH;FMTTYPE=image/jpeg:https://goldcrestnaturetours.nl/wp-content/uploads/2025/10/Slibanemoon-1-1.jpg
END:VEVENT
BEGIN:VEVENT
DTSTART;TZID=Europe/Amsterdam:20260608T070000
DTEND;TZID=Europe/Amsterdam:20260608T160000
DTSTAMP:20260424T182924
CREATED:20231009T134536Z
LAST-MODIFIED:20250915T140626Z
UID:6029-1780902000-1780934400@goldcrestnaturetours.nl
SUMMARY:Vlinderen in de Eifel voor een dag
DESCRIPTION:Een dag lang vlinderen net over de grens met Duitsland\n\n\n\n✓  Met een ervaren vlinderspecialist ontdekt u de beste vlinderlocaties in de Eifel✓  Blauwe- en Rode vuurvlinder✓  Ringoogparelmoervlinder en vele andere fraaie soorten vlinders✓  Gedegen uitleg en determinatie van en over de geziene soorten✓  Inclusief vervoer vanaf een verzamelpunt in Nederland \n\n\n\nEen unieke kans om de Dagvlinders in de Eifel te ontdekken!\n\n\n\nDatum: 08 juni 2026
URL:https://goldcrestnaturetours.nl/event/vlinderen-in-de-eifel-voor-een-dag/
LOCATION:P&R Genneper parken\, Aalsterweg 316\, Eindhoven\, 5644 RL
CATEGORIES:dagexcursie,Vlinderreizen
ATTACH;FMTTYPE=image/jpeg:https://goldcrestnaturetours.nl/wp-content/uploads/2023/10/Ringoogparelmoervlinder-hangend-aan-een-bloem-van-de-Adderwortel.jpg
END:VEVENT
BEGIN:VEVENT
DTSTART;TZID=Europe/Amsterdam:20260702T060000
DTEND;TZID=Europe/Amsterdam:20260702T150000
DTSTAMP:20260424T182924
CREATED:20231010T132826Z
LAST-MODIFIED:20260302T174425Z
UID:6048-1782972000-1783004400@goldcrestnaturetours.nl
SUMMARY:Vlinders en Libellen in de Ardennen
DESCRIPTION:Een dag lang vlinderen net over de Belgische grens\n\n\n\n✓  Met een ervaren vlinderspecialist ontdekt u de beste vlinderlocaties✓  Purperstreepparelmoervlinder en vele andere fraaie soorten vlinders✓  Speerwaterjuffer en Gewone Bronlibel✓  Gedegen uitleg en determinatie van en over de geziene soorten✓  Inclusief vervoer vanaf een verzamelpunt in Nederland \n\n\n\nEen unieke kans om bijzondere Dagvlinders en Libellen te ontdekken!\n\n\n\nDatum: 1 juli 2025
URL:https://goldcrestnaturetours.nl/event/vlinders-en-libellen-in-de-ardennen/
LOCATION:P&R Genneper parken\, Aalsterweg 316\, Eindhoven\, 5644 RL
CATEGORIES:dagexcursie,Vlinderreizen
ATTACH;FMTTYPE=image/jpeg:https://goldcrestnaturetours.nl/wp-content/uploads/2023/10/Veenbesparelmoervlinder-2.jpg
END:VEVENT
BEGIN:VEVENT
DTSTART;TZID=Europe/Amsterdam:20260829T083000
DTEND;TZID=Europe/Amsterdam:20260829T123000
DTSTAMP:20260424T182924
CREATED:20251015T153503Z
LAST-MODIFIED:20251120T162702Z
UID:9410-1787992200-1788006600@goldcrestnaturetours.nl
SUMMARY:Excursie: Zeeuwse getijdenpoelen
DESCRIPTION:Langs de kust van Zeeland schuilt een wereld vol kleur en beweging — je hoeft alleen maar goed te kijken. Tijdens deze unieke excursie neemt marien bioloog Rose Ommering je mee naar de ondiepe poeltjes die bij eb achterblijven tussen de stenen. Deze kleine werelden\, ook wel rock pools genoemd\, zitten vol leven en verrassingen. \n\n\n\nOnderwaterleven in Zeeuwse getijdenpoelen\n\n\n\nDeze getijdenpoelen vormen een uniek biotoop waar zout water\, zonlicht en getij samen een mini-ecosysteem creëren. Hier ontdek je een verbazingwekkende rijkdom aan soorten zoals Levendbarende slangster\, Flamenco-platworm en Harig porseleinkrabbetje. En dat gewoon langs de kust in Zeeland!
URL:https://goldcrestnaturetours.nl/event/excursie-zeeuwse-getijdenpoelen/
LOCATION:Nog nader te bepalen\, Ridderstraat 5\, Heenvliet\, 3218 VR\, Netherlands
CATEGORIES:dagexcursie
ATTACH;FMTTYPE=image/jpeg:https://goldcrestnaturetours.nl/wp-content/uploads/2025/10/Gewone-zeeappel-1.jpg
END:VEVENT
BEGIN:VEVENT
DTSTART;TZID=Europe/Amsterdam:20260912T070000
DTEND;TZID=Europe/Amsterdam:20260912T150000
DTSTAMP:20260424T182924
CREATED:20240221T111323Z
LAST-MODIFIED:20260302T174916Z
UID:6862-1789196400-1789225200@goldcrestnaturetours.nl
SUMMARY:Vogelexcursie Belgische Ardennen
DESCRIPTION:Wat gaan we doen?\n\n\n\nIn één dag heen en weer voor een gave vogelexcursie in de Belgische Ardennen. In België maken we kans op vogelsoorten als de Notenkraker\, Rode wouw en de Waterspreeuw. Samen met Chris de Nooijer \, een ervaren natuurgids en vogelaar gaat u op ontdekking in de prachtige natuur van de Belgische Ardennen. Het wordt een dag met véél natuurbeleving en tijd om te struinen\, te fotograferen én te genieten van de omgeving. Lekker buiten in de natuur samen met een kleine groep mensen die net zo enthousiast worden van de vogels in de Belgische Ardennen als u! \n\n\n\nChris kent de omgeving van de Oostkantons zeer goed en struint hier elk jaar de gebieden af op zoek naar de bijzondere vogelsoorten. Zo neemt hij u mee naar de beste locaties in de Belgische Ardennen voor de beste kans op Notenkraker en Waterspreeuw.
URL:https://goldcrestnaturetours.nl/event/vogelexcursie-belgische-ardennen-2/
LOCATION:P&R Meerhoven\, Sliffertsestraat 304\, Eindhoven\, 5657 AS
CATEGORIES:dagexcursie,Vogelexcursie
ATTACH;FMTTYPE=image/jpeg:https://goldcrestnaturetours.nl/wp-content/uploads/2024/02/Visarend-met-een-zojuist-gevangen-vis.jpg
END:VEVENT
END:VCALENDAR