BEGIN:VCALENDAR
VERSION:2.0
PRODID:-//Goldcrest Nature Tours - ECPv6.15.20//NONSGML v1.0//EN
CALSCALE:GREGORIAN
METHOD:PUBLISH
X-ORIGINAL-URL:https://goldcrestnaturetours.nl
X-WR-CALDESC:Evenementen voor Goldcrest Nature Tours
REFRESH-INTERVAL;VALUE=DURATION:PT1H
X-Robots-Tag:noindex
X-PUBLISHED-TTL:PT1H
BEGIN:VTIMEZONE
TZID:Europe/Amsterdam
BEGIN:DAYLIGHT
TZOFFSETFROM:+0100
TZOFFSETTO:+0200
TZNAME:CEST
DTSTART:20250330T010000
END:DAYLIGHT
BEGIN:STANDARD
TZOFFSETFROM:+0200
TZOFFSETTO:+0100
TZNAME:CET
DTSTART:20251026T010000
END:STANDARD
BEGIN:DAYLIGHT
TZOFFSETFROM:+0100
TZOFFSETTO:+0200
TZNAME:CEST
DTSTART:20260329T010000
END:DAYLIGHT
BEGIN:STANDARD
TZOFFSETFROM:+0200
TZOFFSETTO:+0100
TZNAME:CET
DTSTART:20261025T010000
END:STANDARD
BEGIN:DAYLIGHT
TZOFFSETFROM:+0100
TZOFFSETTO:+0200
TZNAME:CEST
DTSTART:20270328T010000
END:DAYLIGHT
BEGIN:STANDARD
TZOFFSETFROM:+0200
TZOFFSETTO:+0100
TZNAME:CET
DTSTART:20271031T010000
END:STANDARD
END:VTIMEZONE
BEGIN:VEVENT
DTSTART;TZID=Europe/Amsterdam:20260418T070000
DTEND;TZID=Europe/Amsterdam:20260418T110000
DTSTAMP:20260424T200402
CREATED:20250917T160726Z
LAST-MODIFIED:20250917T160727Z
UID:6013-1776495600-1776510000@goldcrestnaturetours.nl
SUMMARY:Vroege vogelexcursie in de Beningerslikken
DESCRIPTION:Vogelexcursie\, de vogelgeluiden van het voorjaar\n\n\n\nEen vroege ochtendwandeling om in alle rust te genieten van de zonsopkomst en “the dawn chorus” \n\n\n\n✓ Roofvogels als Zeearend\, Bruine kiekendief en Slechtvalk✓ Steltlopers als Grutto\, Krombekstrandloper en Kemphaan✓ Zingende Blauwborst\, Rietzanger en Kleine Karekiet✓ Vogelgeluiden leren herkennen✓ Kleine groep ⇒ persoonlijke aandacht \n\n\n\nOok op 16 mei 2026!
URL:https://goldcrestnaturetours.nl/event/vroege-vogelexcursie-in-de-beningerslikken/
LOCATION:Parkeerplaats kijktoren Spuimonding west\, Zuidoordsedijk\, Zuidland\, Nederland
CATEGORIES:dagexcursie,Vogelexcursie
ATTACH;FMTTYPE=image/jpeg:https://goldcrestnaturetours.nl/wp-content/uploads/2023/10/Rietgors-e1696520090430.jpg
END:VEVENT
END:VCALENDAR