BEGIN:VCALENDAR
VERSION:2.0
PRODID:-//Goldcrest Nature Tours - ECPv6.15.20//NONSGML v1.0//EN
CALSCALE:GREGORIAN
METHOD:PUBLISH
X-WR-CALNAME:Goldcrest Nature Tours
X-ORIGINAL-URL:https://goldcrestnaturetours.nl
X-WR-CALDESC:Evenementen voor Goldcrest Nature Tours
REFRESH-INTERVAL;VALUE=DURATION:PT1H
X-Robots-Tag:noindex
X-PUBLISHED-TTL:PT1H
BEGIN:VTIMEZONE
TZID:Europe/Amsterdam
BEGIN:DAYLIGHT
TZOFFSETFROM:+0100
TZOFFSETTO:+0200
TZNAME:CEST
DTSTART:20250330T010000
END:DAYLIGHT
BEGIN:STANDARD
TZOFFSETFROM:+0200
TZOFFSETTO:+0100
TZNAME:CET
DTSTART:20251026T010000
END:STANDARD
BEGIN:DAYLIGHT
TZOFFSETFROM:+0100
TZOFFSETTO:+0200
TZNAME:CEST
DTSTART:20260329T010000
END:DAYLIGHT
BEGIN:STANDARD
TZOFFSETFROM:+0200
TZOFFSETTO:+0100
TZNAME:CET
DTSTART:20261025T010000
END:STANDARD
BEGIN:DAYLIGHT
TZOFFSETFROM:+0100
TZOFFSETTO:+0200
TZNAME:CEST
DTSTART:20270328T010000
END:DAYLIGHT
BEGIN:STANDARD
TZOFFSETFROM:+0200
TZOFFSETTO:+0100
TZNAME:CET
DTSTART:20271031T010000
END:STANDARD
END:VTIMEZONE
BEGIN:VEVENT
DTSTART;TZID=Europe/Amsterdam:20260321T080000
DTEND;TZID=Europe/Amsterdam:20260321T120000
DTSTAMP:20260424T211908
CREATED:20240101T163238Z
LAST-MODIFIED:20251128T185039Z
UID:6625-1774080000-1774094400@goldcrestnaturetours.nl
SUMMARY:Spechten zuidwest Brabant
DESCRIPTION:Wat gaan we doen?\n\n\n\nSamen met Chris \, een ervaren en enthousiaste vogelaar gaat u op zoek naar de vijf soorten spechten én andere gave bosvogels. In het zuidwesten van Brabant vinden we oude loofbossen\, de ideale plek om in de wintertijd op zoek te gaan naar spechten. Deze spechtenexcursie in zuidwest Brabant staat dan ook geheel in het teken van de vijf soorten spechten. De Grote-\, Middelste- en Kleine bonte specht\, Zwarte specht en de Groene specht. We maken een mooie boswandeling waarbij we de beste locaties bezoeken om mooie bosvogels waar te kunnen nemen.
URL:https://goldcrestnaturetours.nl/event/spechtenexcursie-zuidwest-brabant/
LOCATION:Nog nader te bepalen\, Ridderstraat 5\, Heenvliet\, 3218 VR\, Netherlands
CATEGORIES:dagexcursie,Vogelexcursie
ATTACH;FMTTYPE=image/jpeg:https://goldcrestnaturetours.nl/wp-content/uploads/2023/12/Middelste-bonte-specht-1.jpg
END:VEVENT
END:VCALENDAR