BEGIN:VCALENDAR
VERSION:2.0
PRODID:-//Goldcrest Nature Tours - ECPv6.15.20//NONSGML v1.0//EN
CALSCALE:GREGORIAN
METHOD:PUBLISH
X-WR-CALNAME:Goldcrest Nature Tours
X-ORIGINAL-URL:https://goldcrestnaturetours.nl
X-WR-CALDESC:Evenementen voor Goldcrest Nature Tours
REFRESH-INTERVAL;VALUE=DURATION:PT1H
X-Robots-Tag:noindex
X-PUBLISHED-TTL:PT1H
BEGIN:VTIMEZONE
TZID:Europe/Amsterdam
BEGIN:DAYLIGHT
TZOFFSETFROM:+0100
TZOFFSETTO:+0200
TZNAME:CEST
DTSTART:20250330T010000
END:DAYLIGHT
BEGIN:STANDARD
TZOFFSETFROM:+0200
TZOFFSETTO:+0100
TZNAME:CET
DTSTART:20251026T010000
END:STANDARD
BEGIN:DAYLIGHT
TZOFFSETFROM:+0100
TZOFFSETTO:+0200
TZNAME:CEST
DTSTART:20260329T010000
END:DAYLIGHT
BEGIN:STANDARD
TZOFFSETFROM:+0200
TZOFFSETTO:+0100
TZNAME:CET
DTSTART:20261025T010000
END:STANDARD
BEGIN:DAYLIGHT
TZOFFSETFROM:+0100
TZOFFSETTO:+0200
TZNAME:CEST
DTSTART:20270328T010000
END:DAYLIGHT
BEGIN:STANDARD
TZOFFSETFROM:+0200
TZOFFSETTO:+0100
TZNAME:CET
DTSTART:20271031T010000
END:STANDARD
END:VTIMEZONE
BEGIN:VEVENT
DTSTART;TZID=Europe/Amsterdam:20261029T080000
DTEND;TZID=Europe/Amsterdam:20261102T170000
DTSTAMP:20260424T194407
CREATED:20260325T163254Z
LAST-MODIFIED:20260325T163256Z
UID:10272-1793260800-1793638800@goldcrestnaturetours.nl
SUMMARY:Fotoreis Gran Paradiso herfst
DESCRIPTION:Fotograferen Van Steenbokken\, Gemzen En Berglandschap In Herfstkleuren \n\n\n\nIn de herfst toont Gran Paradiso zich op zijn mooist. Gouden lariksbossen\, ruige bergtoppen en helder Alpenlicht vormen het decor voor een unieke natuurfotografiereis in het oudste nationale park van Italië. Dit is het leefgebied van de iconische Steenbok\, die hier vaak verrassend benaderbaar is\, evenals de elegante Gems.
URL:https://goldcrestnaturetours.nl/event/fotoreis-gran-paradiso-herfst/
LOCATION:Schiphol\, Amsterdam\, Nederland
ATTACH;FMTTYPE=image/jpeg:https://goldcrestnaturetours.nl/wp-content/uploads/2025/12/Steenbok-Ibex-Gran-Paradiso-NP-.jpg
END:VEVENT
BEGIN:VEVENT
DTSTART;TZID=Europe/Amsterdam:20261030T080000
DTEND;TZID=Europe/Amsterdam:20261101T170000
DTSTAMP:20260424T194407
CREATED:20231010T135131Z
LAST-MODIFIED:20251120T162609Z
UID:6060-1793347200-1793552400@goldcrestnaturetours.nl
SUMMARY:Kraanvogeltrek in Diepholz
DESCRIPTION:Beleving van de Kraanvogelmigratie én meer\n\n\n\n✓ De Kraanvogels waarnemen op de slaapplaatsen en foerageergebieden✓ Grote groepen Toendra rietganzen✓ Vele soorten akkervogels zoals Patrijs en Geelgors✓ Roofvogels als Blauwe kiekendief\, Rode wouw en Zeearend✓ Boswandeling met kans op bosvogels en uilen✓ Drie dagen ontspannen ‘vogelen\, volledig verzorgd en onder deskundige begeleiding✓ Goede fotografische mogelijkheden
URL:https://goldcrestnaturetours.nl/event/kraanvogeltrek-in-diepholz/
LOCATION:Nog nader te bepalen\, Ridderstraat 5\, Heenvliet\, 3218 VR\, Netherlands
CATEGORIES:Natuurreizen,vogelreizen
ATTACH;FMTTYPE=image/jpeg:https://goldcrestnaturetours.nl/wp-content/uploads/2023/10/Familie-Kraanvogels.jpg
END:VEVENT
END:VCALENDAR