BEGIN:VCALENDAR
VERSION:2.0
PRODID:-//Goldcrest Nature Tours - ECPv6.15.20//NONSGML v1.0//EN
CALSCALE:GREGORIAN
METHOD:PUBLISH
X-ORIGINAL-URL:https://goldcrestnaturetours.nl
X-WR-CALDESC:Evenementen voor Goldcrest Nature Tours
REFRESH-INTERVAL;VALUE=DURATION:PT1H
X-Robots-Tag:noindex
X-PUBLISHED-TTL:PT1H
BEGIN:VTIMEZONE
TZID:Europe/Amsterdam
BEGIN:DAYLIGHT
TZOFFSETFROM:+0100
TZOFFSETTO:+0200
TZNAME:CEST
DTSTART:20250330T010000
END:DAYLIGHT
BEGIN:STANDARD
TZOFFSETFROM:+0200
TZOFFSETTO:+0100
TZNAME:CET
DTSTART:20251026T010000
END:STANDARD
BEGIN:DAYLIGHT
TZOFFSETFROM:+0100
TZOFFSETTO:+0200
TZNAME:CEST
DTSTART:20260329T010000
END:DAYLIGHT
BEGIN:STANDARD
TZOFFSETFROM:+0200
TZOFFSETTO:+0100
TZNAME:CET
DTSTART:20261025T010000
END:STANDARD
BEGIN:DAYLIGHT
TZOFFSETFROM:+0100
TZOFFSETTO:+0200
TZNAME:CEST
DTSTART:20270328T010000
END:DAYLIGHT
BEGIN:STANDARD
TZOFFSETFROM:+0200
TZOFFSETTO:+0100
TZNAME:CET
DTSTART:20271031T010000
END:STANDARD
END:VTIMEZONE
BEGIN:VEVENT
DTSTART;TZID=Europe/Amsterdam:20260716T080000
DTEND;TZID=Europe/Amsterdam:20260717T170000
DTSTAMP:20260424T151429
CREATED:20260303T141945Z
LAST-MODIFIED:20260303T141947Z
UID:10105-1784188800-1784307600@goldcrestnaturetours.nl
SUMMARY:Limburgse vlinders en libellen
DESCRIPTION:Vlinders en Libellen in Limburg\, de provincie om een leuke lijst aan soorten te kunnen zien. Het worden twee dagen met véél natuurbeleving en tijd om te struinen\, te fotograferen én te genieten van de omgeving. Lekker buiten in de natuur samen met een kleine groep mensen die net zo enthousiast worden van vlinders en libellen als jij! \n\n\n\n✓ Kans op Klaver en Staartblauwtje✓ Spiegeldikkopje en Iepenpage✓ Mogelijk Kleine weerschijnvlinder en Dambordje✓ Plasrombout\, Gaffellibel\, Gewone bron- en Kleine tanglibel \n\n\n\nvervoer met onze eigen minibus inbegrepen
URL:https://goldcrestnaturetours.nl/event/limburgse-vlinders-en-libellen/
LOCATION:P&R Genneper parken\, Aalsterweg 316\, Eindhoven\, 5644 RL
ATTACH;FMTTYPE=image/jpeg:https://goldcrestnaturetours.nl/wp-content/uploads/2025/11/Gewone-bronlibel-Common-Goldenring-Cordulegaster-boltonii.jpg
END:VEVENT
END:VCALENDAR