BEGIN:VCALENDAR
VERSION:2.0
PRODID:-//Goldcrest Nature Tours - ECPv6.15.20//NONSGML v1.0//EN
CALSCALE:GREGORIAN
METHOD:PUBLISH
X-ORIGINAL-URL:https://goldcrestnaturetours.nl
X-WR-CALDESC:Evenementen voor Goldcrest Nature Tours
REFRESH-INTERVAL;VALUE=DURATION:PT1H
X-Robots-Tag:noindex
X-PUBLISHED-TTL:PT1H
BEGIN:VTIMEZONE
TZID:Europe/Amsterdam
BEGIN:DAYLIGHT
TZOFFSETFROM:+0100
TZOFFSETTO:+0200
TZNAME:CEST
DTSTART:20250330T010000
END:DAYLIGHT
BEGIN:STANDARD
TZOFFSETFROM:+0200
TZOFFSETTO:+0100
TZNAME:CET
DTSTART:20251026T010000
END:STANDARD
BEGIN:DAYLIGHT
TZOFFSETFROM:+0100
TZOFFSETTO:+0200
TZNAME:CEST
DTSTART:20260329T010000
END:DAYLIGHT
BEGIN:STANDARD
TZOFFSETFROM:+0200
TZOFFSETTO:+0100
TZNAME:CET
DTSTART:20261025T010000
END:STANDARD
BEGIN:DAYLIGHT
TZOFFSETFROM:+0100
TZOFFSETTO:+0200
TZNAME:CEST
DTSTART:20270328T010000
END:DAYLIGHT
BEGIN:STANDARD
TZOFFSETFROM:+0200
TZOFFSETTO:+0100
TZNAME:CET
DTSTART:20271031T010000
END:STANDARD
END:VTIMEZONE
BEGIN:VEVENT
DTSTART;TZID=Europe/Amsterdam:20260529T080000
DTEND;TZID=Europe/Amsterdam:20260606T170000
DTSTAMP:20260424T134417
CREATED:20251002T161312Z
LAST-MODIFIED:20251002T161314Z
UID:9301-1780041600-1780765200@goldcrestnaturetours.nl
SUMMARY:Vogelreis Oostenrijk\,Hongarije en Slovenië
DESCRIPTION:In 2026 kun je mee op deze onderzoek reis voor een scherp tarief \n\n\n\nEen prachtige vogelreis naar centraal Europa waarbij we Oostenrijk\, Hongarije en Slovenië aandoen. Elk land herbergt interessante gebieden waarbij we een mooie lijst met vogels kunnen noteren. Samen met een kleine groep vogelliefhebbers\, onder deskundige begeleiding van Chris en Annemieke . Zij nemen u mee om\, vanuit twee natuurlijk gelegen accommodaties de bergen\, meren\, kust\, bossen\, moerassen en steppe te ontdekken. \n\n\n\n✓ Eco-reis met trein en minibus✓ Kans op Roodpootvalk\, Lammergier en Keizerarend✓ Dwergaalscholver\, Witoogeend en Witwangstern✓ Kans op 10 Spechten soorten✓ Mogelijke zoogdieren zoals Bruine beer\, Siesel en Alpenmarmot
URL:https://goldcrestnaturetours.nl/event/vogelreis-oostenrijkhongarije-en-slovenie/
LOCATION:Amsterdam centraal station\, Amstelpassage\, Amsterdam\, Nederland
ATTACH;FMTTYPE=image/jpeg:https://goldcrestnaturetours.nl/wp-content/uploads/2020/12/keizerarend.jpg
END:VEVENT
BEGIN:VEVENT
DTSTART;TZID=Europe/Amsterdam:20260605T080000
DTEND;TZID=Europe/Amsterdam:20260609T170000
DTSTAMP:20260424T134417
CREATED:20260302T173534Z
LAST-MODIFIED:20260302T173536Z
UID:10095-1780646400-1781024400@goldcrestnaturetours.nl
SUMMARY:Fotoreis Bempton Cliffs: Jan van Genten en papegaaiduikers
DESCRIPTION:Tijdens deze korte en bijzondere vogelfotografiereis nemen we je mee naar de spectaculaire kliffen van Bempton Cliffs en Flamborough Head aan de oostkust van Engeland. Deze kalkstenen kliffen behoren tot de mooiste vogelrotsen van Europa en vormen in het broedseizoen het toneel van duizenden zeevogels.
URL:https://goldcrestnaturetours.nl/event/fotoreis-bempton-cliffs-jan-van-genten-en-papegaaiduikers/
LOCATION:Nog nader te bepalen\, Ridderstraat 5\, Heenvliet\, 3218 VR\, Netherlands
ATTACH;FMTTYPE=image/jpeg:https://goldcrestnaturetours.nl/wp-content/uploads/2025/10/Jan-van-Genten-bij-Bempton-Cliffs.jpg
END:VEVENT
BEGIN:VEVENT
DTSTART;TZID=Europe/Amsterdam:20260606T080000
DTEND;TZID=Europe/Amsterdam:20260606T150000
DTSTAMP:20260424T134417
CREATED:20250314T105305Z
LAST-MODIFIED:20250915T140834Z
UID:8658-1780732800-1780758000@goldcrestnaturetours.nl
SUMMARY:Vogels kijken in de Kampina
DESCRIPTION:Excursie vogels in natuurgebied de Kampina\n\n\n\nLaat je verrassen door de Kampina\, een verborgen juweel in het hart van Brabant. Dit uitgestrekte natuurgebied\, gelegen tussen Oisterwijk en Boxtel\, biedt een ongekende variatie aan landschappen: van loofbossen en uitgestrekte heidevelden tot de kabbelende Beerze en tientallen vennen. Deze diversiteit maakt de Kampina tot een waar paradijs voor vogelliefhebbers. \n\n\n\nStel je voor: je wandelt door de vroege ochtendnevel\, luisterend naar het gefluit van de wielewaal\, de roep van de geelgors en het geroffel van de specht. Met Goldcrest Nature Tours krijg je de unieke kans om met een ervaren vogelkenner\, soorten zoals de grauwe klauwier\, de wespendief en de boomvalk te kunnen zien. De Kampina is ook de thuisbasis van grauwe en bonte vliegenvanger\, boomleeuweriken en kuifmees\, en met een beetje geluk hoor je zelfs de kwartel. \n\n\n\nOf je nu een beginnende-\, een ervaren vogelaar bent of gewoon wilt genieten van de rust en schoonheid van de natuur\, een excursie vogels in natuurgebied de Kampina is genieten. Laat je inspireren door dit bijzondere landschap en de vele vogels van dit unieke stukje Nederland. Ga met ons mee en ontdek de geheimen van de Kampina!
URL:https://goldcrestnaturetours.nl/event/vogels-kijken-in-de-kampina/
LOCATION:Parkeerplaats wandelroutes Kampina\, Annadreef\, Boxtel\, Noord Brabant\, 5281TH\, Netherlands
ATTACH;FMTTYPE=image/jpeg:https://goldcrestnaturetours.nl/wp-content/uploads/2025/03/Bonte-vliegenvanger.jpg
END:VEVENT
BEGIN:VEVENT
DTSTART;TZID=Europe/Amsterdam:20260606T104500
DTEND;TZID=Europe/Amsterdam:20260606T150000
DTSTAMP:20260424T134417
CREATED:20251015T152445Z
LAST-MODIFIED:20251120T162942Z
UID:9407-1780742700-1780758000@goldcrestnaturetours.nl
SUMMARY:Rock pooling langs de Zeeuwse kust
DESCRIPTION:Langs de kust van Zeeland schuilt een wereld vol kleur en beweging — je hoeft alleen maar goed te kijken. Tijdens deze unieke excursie neemt marien bioloog Rose Ommering je mee naar de ondiepe poeltjes die bij eb achterblijven tussen de stenen. Deze kleine werelden\, ook wel rock pools genoemd\, zitten vol leven en verrassingen. \n\n\n\nOnderwaterleven in Zeeuwse getijdenpoelen\n\n\n\nDeze getijdenpoelen vormen een uniek biotoop waar zout water\, zonlicht en getij samen een mini-ecosysteem creëren. Hier ontdek je een verbazingwekkende rijkdom aan soorten zoals Levendbarende slangster\, Flamenco-platworm en Harig porseleinkrabbetje. En dat gewoon langs de kust in Zeeland!
URL:https://goldcrestnaturetours.nl/event/rock-pooling-langs-de-zeeuwse-kust/
LOCATION:Nog nader te bepalen\, Ridderstraat 5\, Heenvliet\, 3218 VR\, Netherlands
CATEGORIES:dagexcursie
ATTACH;FMTTYPE=image/jpeg:https://goldcrestnaturetours.nl/wp-content/uploads/2025/10/Slibanemoon-1-1.jpg
END:VEVENT
END:VCALENDAR