BEGIN:VCALENDAR
VERSION:2.0
PRODID:-//Goldcrest Nature Tours - ECPv6.15.20//NONSGML v1.0//EN
CALSCALE:GREGORIAN
METHOD:PUBLISH
X-WR-CALNAME:Goldcrest Nature Tours
X-ORIGINAL-URL:https://goldcrestnaturetours.nl
X-WR-CALDESC:Evenementen voor Goldcrest Nature Tours
REFRESH-INTERVAL;VALUE=DURATION:PT1H
X-Robots-Tag:noindex
X-PUBLISHED-TTL:PT1H
BEGIN:VTIMEZONE
TZID:Europe/Amsterdam
BEGIN:DAYLIGHT
TZOFFSETFROM:+0100
TZOFFSETTO:+0200
TZNAME:CEST
DTSTART:20250330T010000
END:DAYLIGHT
BEGIN:STANDARD
TZOFFSETFROM:+0200
TZOFFSETTO:+0100
TZNAME:CET
DTSTART:20251026T010000
END:STANDARD
BEGIN:DAYLIGHT
TZOFFSETFROM:+0100
TZOFFSETTO:+0200
TZNAME:CEST
DTSTART:20260329T010000
END:DAYLIGHT
BEGIN:STANDARD
TZOFFSETFROM:+0200
TZOFFSETTO:+0100
TZNAME:CET
DTSTART:20261025T010000
END:STANDARD
BEGIN:DAYLIGHT
TZOFFSETFROM:+0100
TZOFFSETTO:+0200
TZNAME:CEST
DTSTART:20270328T010000
END:DAYLIGHT
BEGIN:STANDARD
TZOFFSETFROM:+0200
TZOFFSETTO:+0100
TZNAME:CET
DTSTART:20271031T010000
END:STANDARD
END:VTIMEZONE
BEGIN:VEVENT
DTSTART;TZID=Europe/Amsterdam:20260529T080000
DTEND;TZID=Europe/Amsterdam:20260531T170000
DTSTAMP:20260424T121719
CREATED:20250930T154311Z
LAST-MODIFIED:20250930T154312Z
UID:9271-1780041600-1780246800@goldcrestnaturetours.nl
SUMMARY:Wilde orchideeën - Eifel
DESCRIPTION:✔ Begeleiding door orchideeënspecialist Mark Meijrink✔ Focus op wilde orchideeën in de Eifel en andere voorjaarsflora✔ Kleine groep (7) voor maximale natuurbeleving✔ Vervoer vanuit Nederland inbegrepen
URL:https://goldcrestnaturetours.nl/event/wilde-orchideeen-eifel/
LOCATION:P&R Genneper parken\, Aalsterweg 316\, Eindhoven\, 5644 RL
CATEGORIES:Natuurreizen
ATTACH;FMTTYPE=image/jpeg:https://goldcrestnaturetours.nl/wp-content/uploads/2025/09/Vliegenorchis-foto-Mark-Meijrink-1.jpg
END:VEVENT
BEGIN:VEVENT
DTSTART;TZID=Europe/Amsterdam:20260529T080000
DTEND;TZID=Europe/Amsterdam:20260606T170000
DTSTAMP:20260424T121719
CREATED:20251002T161312Z
LAST-MODIFIED:20251002T161314Z
UID:9301-1780041600-1780765200@goldcrestnaturetours.nl
SUMMARY:Vogelreis Oostenrijk\,Hongarije en Slovenië
DESCRIPTION:In 2026 kun je mee op deze onderzoek reis voor een scherp tarief \n\n\n\nEen prachtige vogelreis naar centraal Europa waarbij we Oostenrijk\, Hongarije en Slovenië aandoen. Elk land herbergt interessante gebieden waarbij we een mooie lijst met vogels kunnen noteren. Samen met een kleine groep vogelliefhebbers\, onder deskundige begeleiding van Chris en Annemieke . Zij nemen u mee om\, vanuit twee natuurlijk gelegen accommodaties de bergen\, meren\, kust\, bossen\, moerassen en steppe te ontdekken. \n\n\n\n✓ Eco-reis met trein en minibus✓ Kans op Roodpootvalk\, Lammergier en Keizerarend✓ Dwergaalscholver\, Witoogeend en Witwangstern✓ Kans op 10 Spechten soorten✓ Mogelijke zoogdieren zoals Bruine beer\, Siesel en Alpenmarmot
URL:https://goldcrestnaturetours.nl/event/vogelreis-oostenrijkhongarije-en-slovenie/
LOCATION:Amsterdam centraal station\, Amstelpassage\, Amsterdam\, Nederland
ATTACH;FMTTYPE=image/jpeg:https://goldcrestnaturetours.nl/wp-content/uploads/2020/12/keizerarend.jpg
END:VEVENT
BEGIN:VEVENT
DTSTART;TZID=Europe/Amsterdam:20260530T080000
DTEND;TZID=Europe/Amsterdam:20260531T150000
DTSTAMP:20260424T121719
CREATED:20251114T100407Z
LAST-MODIFIED:20251120T163053Z
UID:9565-1780128000-1780239600@goldcrestnaturetours.nl
SUMMARY:Twee dagen natuurbeleving in Drenthe
DESCRIPTION:Ga mee op ontdekkingstocht door het natuur- én cultuurlandschap van de Drents-Friese grensstreek. Tijdens deze tweedaagse natuurexcursie in Drenthe trekken we samen met een enthousiaste natuurgids door heidevelden\, bossen en hoogveen. We luisteren naar vogels\, speuren naar zeldzame flora en wie weet zien we een Adder zonnen tussen het struikgewas. \n\n\n\nOmdat er zoveel te ontdekken valt\, nemen we de tijd en overnachten we in de omgeving. Dat biedt ook de kans voor een bijzondere avondexcursie\, waarin we op zoek gaan naar uilen en de mysterieuze nachtzwaluw.
URL:https://goldcrestnaturetours.nl/event/twee-dagen-natuurbeleving-in-drenthe/
LOCATION:Nog nader te bepalen\, Ridderstraat 5\, Heenvliet\, 3218 VR\, Netherlands
ATTACH;FMTTYPE=image/jpeg:https://goldcrestnaturetours.nl/wp-content/uploads/2020/11/Familie-Kraanvogels.jpg
END:VEVENT
END:VCALENDAR