BEGIN:VCALENDAR
VERSION:2.0
PRODID:-//Goldcrest Nature Tours - ECPv6.15.20//NONSGML v1.0//EN
CALSCALE:GREGORIAN
METHOD:PUBLISH
X-WR-CALNAME:Goldcrest Nature Tours
X-ORIGINAL-URL:https://goldcrestnaturetours.nl
X-WR-CALDESC:Evenementen voor Goldcrest Nature Tours
REFRESH-INTERVAL;VALUE=DURATION:PT1H
X-Robots-Tag:noindex
X-PUBLISHED-TTL:PT1H
BEGIN:VTIMEZONE
TZID:Europe/Amsterdam
BEGIN:DAYLIGHT
TZOFFSETFROM:+0100
TZOFFSETTO:+0200
TZNAME:CEST
DTSTART:20250330T010000
END:DAYLIGHT
BEGIN:STANDARD
TZOFFSETFROM:+0200
TZOFFSETTO:+0100
TZNAME:CET
DTSTART:20251026T010000
END:STANDARD
BEGIN:DAYLIGHT
TZOFFSETFROM:+0100
TZOFFSETTO:+0200
TZNAME:CEST
DTSTART:20260329T010000
END:DAYLIGHT
BEGIN:STANDARD
TZOFFSETFROM:+0200
TZOFFSETTO:+0100
TZNAME:CET
DTSTART:20261025T010000
END:STANDARD
BEGIN:DAYLIGHT
TZOFFSETFROM:+0100
TZOFFSETTO:+0200
TZNAME:CEST
DTSTART:20270328T010000
END:DAYLIGHT
BEGIN:STANDARD
TZOFFSETFROM:+0200
TZOFFSETTO:+0100
TZNAME:CET
DTSTART:20271031T010000
END:STANDARD
END:VTIMEZONE
BEGIN:VEVENT
DTSTART;TZID=Europe/Amsterdam:20260514T080000
DTEND;TZID=Europe/Amsterdam:20260525T170000
DTSTAMP:20260424T121746
CREATED:20240118T133838Z
LAST-MODIFIED:20251002T154037Z
UID:6748-1778745600-1779728400@goldcrestnaturetours.nl
SUMMARY:Vogels kijken in Finland en Varanger
DESCRIPTION:Wat gaan we doen?\n\n\n\nEen bijzondere vogelreis waarbij we vogels gaan kijken in Finland\, Fins Lapland en het Noordse schiereiland Varanger. Hier kunnen we in het voorjaar een magische lijst met broedvogels gaan waarnemen. Tel daar de adembenemende arctische landschappen bij op en u begrijpt dat dit een vogel en natuurreis van de buitencategorie is. We starten onze reis in Fins Lapland\, ruim boven de Poolcirkel. We vervolgen onze weg naar Noorwegen en gaan meerdere dagen vogelen op het schiereiland Varanger. Gelegen aan het 100 kilometer lange Varangerfjord is dit een magneet voor zangvogels\, steltlopers\, zeevogels\, roofvogels. en uilen. Terug naar het zuiden via Fins Lapland komen we uit bij Kuusamo voor de vogels van de Taigabossen en meren. We eindigen onze reis in Oulu\, een plek met enkele bijzondere vogelsoorten. \n\n\n\nEen vogel en natuurreis met een mooie lijst aan vogelsoorten\, zoogdieren en planten. Het ongerepte landschap met uitgestrekte dennenbossen\, stromende beken\, veengebieden en grote meren is in centraal Europa niet meer terug te vinden. Vlaktes met veen en lage vegetatie\, ijs en sneeuw op de toendra’s en bergen op Varanger. De dunbevolkte gebieden en spaarzame landbouw maken van Fins Lapland en Varanger eigenlijk één groot natuurgebied. We hebben in deze tijd van het jaar veel daglicht\, de middernachtzon\, om gebruik van te maken. Dit bijzondere fenomeen\, dat hier de zon niet onder gaat\, is een extra gaaf aspect van deze natuurreis.
URL:https://goldcrestnaturetours.nl/event/vogels-kijken-in-finland-en-varanger-2/
LOCATION:Schiphol\, Amsterdam\, Nederland
CATEGORIES:Natuurreizen,vogelreizen
ATTACH;FMTTYPE=image/jpeg:https://goldcrestnaturetours.nl/wp-content/uploads/2020/11/Grauwe-franjepoot-vrouw-in-het-water.jpg
END:VEVENT
BEGIN:VEVENT
DTSTART;TZID=Europe/Amsterdam:20260515T080000
DTEND;TZID=Europe/Amsterdam:20260515T120000
DTSTAMP:20260424T121746
CREATED:20250314T102513Z
LAST-MODIFIED:20260423T135310Z
UID:8645-1778832000-1778846400@goldcrestnaturetours.nl
SUMMARY:Lepelaars fotograferen Quackjeswater
DESCRIPTION:Fotografie workshop: Wat ga je leren?\n\n\n\nOntmoet en fotografeer de fotogenieke lepelaars \n\n\n\nDe sierlijke lepelaars strijken in het voorjaar weer neer in Nederland. Rondom het Quackjeswater broeden jaarlijks honderden van deze prachtige vogels. \n\n\n\nHet perfecte moment om te leren hoe je ze kunt fotograferen. Tijdens deze praktische workshop leer je hoe je deze schitterende vogels kunt fotograferen. Natuurlijk  wordt uitgebreid aandacht besteed aan de theorie\, maar ga je vooral ook zelf aan de slag. Doordat de workshop in een kleine groep wordt gegeven\, is er voldoende ruimte voor persoonlijke begeleiding. Zo ga je gegarandeerd met mooie foto’s weer naar huis.
URL:https://goldcrestnaturetours.nl/event/lepelaars-fotograferen-quackjeswater/
LOCATION:Parkeerplaats Quackjeswater\, Duindijk 7\, Rockanje\, 3235 KA
ATTACH;FMTTYPE=image/jpeg:https://goldcrestnaturetours.nl/wp-content/uploads/2025/03/Lepelaar-in-vlucht.jpg
END:VEVENT
BEGIN:VEVENT
DTSTART;TZID=Europe/Amsterdam:20260515T090000
DTEND;TZID=Europe/Amsterdam:20260515T160000
DTSTAMP:20260424T121746
CREATED:20250314T104453Z
LAST-MODIFIED:20260423T140136Z
UID:8653-1778835600-1778860800@goldcrestnaturetours.nl
SUMMARY:Vlinders en libellen excursie met Albert en Antoine
DESCRIPTION:Exclusieve vlinderexcursie Sint-Pietersberg en ENCI-groeve met Albert Vliegenthart en Antoine van der heijden\n\n\n\nStel je voor: je verzamelt bij de parkeerplaats bij de ENCI-groeve\, klaar voor een dag vol natuur op de Sint-Pietersberg. Onder begeleiding van ecoloog Albert Vliegenthart van de Vlinderstichting begin je aan een wandeling door dit prachtige gebied. Het is een ideale dag om insecten te observeren\, met speciale aandacht voor de vlinders. De Sint-Pietersberg is tenslotte de plek in Nederland waar de meeste dagvlindersoorten zijn waargenomen. Aan ons vandaag de taak om er een flink aantal van te vinden. Maar ook om te leren hoe en waar je deze insecten moet zoeken en welke eisen de soorten aanhun omgeving stellen.
URL:https://goldcrestnaturetours.nl/event/vlinderen-met-albert-vliegenthart/
LOCATION:Parkeerplaats Sint Pietersberg\, Lage Kanaaldijk 117\, Maastricht\, Limburg\, 6212 NA\, Netherlands
ATTACH;FMTTYPE=image/jpeg:https://goldcrestnaturetours.nl/wp-content/uploads/2025/03/Staartblauwtje-scaled.jpg
END:VEVENT
END:VCALENDAR