BEGIN:VCALENDAR
VERSION:2.0
PRODID:-//Goldcrest Nature Tours - ECPv6.15.20//NONSGML v1.0//EN
CALSCALE:GREGORIAN
METHOD:PUBLISH
X-WR-CALNAME:Goldcrest Nature Tours
X-ORIGINAL-URL:https://goldcrestnaturetours.nl
X-WR-CALDESC:Evenementen voor Goldcrest Nature Tours
REFRESH-INTERVAL;VALUE=DURATION:PT1H
X-Robots-Tag:noindex
X-PUBLISHED-TTL:PT1H
BEGIN:VTIMEZONE
TZID:Europe/Paris
BEGIN:DAYLIGHT
TZOFFSETFROM:+0100
TZOFFSETTO:+0200
TZNAME:CEST
DTSTART:20250330T010000
END:DAYLIGHT
BEGIN:STANDARD
TZOFFSETFROM:+0200
TZOFFSETTO:+0100
TZNAME:CET
DTSTART:20251026T010000
END:STANDARD
BEGIN:DAYLIGHT
TZOFFSETFROM:+0100
TZOFFSETTO:+0200
TZNAME:CEST
DTSTART:20260329T010000
END:DAYLIGHT
BEGIN:STANDARD
TZOFFSETFROM:+0200
TZOFFSETTO:+0100
TZNAME:CET
DTSTART:20261025T010000
END:STANDARD
BEGIN:DAYLIGHT
TZOFFSETFROM:+0100
TZOFFSETTO:+0200
TZNAME:CEST
DTSTART:20270328T010000
END:DAYLIGHT
BEGIN:STANDARD
TZOFFSETFROM:+0200
TZOFFSETTO:+0100
TZNAME:CET
DTSTART:20271031T010000
END:STANDARD
END:VTIMEZONE
BEGIN:VEVENT
DTSTART;TZID=Europe/Paris:20260504T080000
DTEND;TZID=Europe/Paris:20260510T170000
DTSTAMP:20260424T121703
CREATED:20220810T152525Z
LAST-MODIFIED:20251120T163428Z
UID:4367-1777881600-1778432400@goldcrestnaturetours.nl
SUMMARY:Vogelreis: Lente in de Camargue
DESCRIPTION:Vogelen in het zuiden van Frankrijk\n✓ Eco-Tour met de trein of eigen auto (meerijden is mogelijk)✓ Vogelen in drie top natuurgebieden: Les Alpilles\, Camarque en de Crau✓ Kans op Havik arend\, Kuifkoekoek en de Kleine Trap✓ Natuurbeleving met vogels\, insecten\, vlinders\, reptielen\, planten en zoogdieren✓ Begeleiding door twee enthousiaste Nederlandse natuurgidsen \nWat gaan we doen?\nLente in de Camargue\, in het zuiden van Frankrijk. Daar gaan we een week lang vogels kijken in drie fenomenale natuurgebieden met elk een eigen karakter. Dé Camargue met de zoutvlaktes\, wetlands\, rietgebieden en kleinschalige landbouw. Les Alpilles met haar grillige rotsformaties en de Crau\, een steppeachtig kiezelgebied op de oude rivierbedding van de Durance. Een divers programma met gegarandeerd veel mooie vogelwaarnemingen én 100% natuurbeleving.
URL:https://goldcrestnaturetours.nl/event/lente-in-de-camargue/
LOCATION:Nog nader te bepalen\, Ridderstraat 5\, Heenvliet\, 3218 VR\, Netherlands
CATEGORIES:Natuurreizen,vogelreizen
ATTACH;FMTTYPE=image/jpeg:https://goldcrestnaturetours.nl/wp-content/uploads/2022/08/Bijeneter-op-paaltje.jpg
END:VEVENT
END:VCALENDAR