BEGIN:VCALENDAR
VERSION:2.0
PRODID:-//Goldcrest Nature Tours - ECPv6.15.20//NONSGML v1.0//EN
CALSCALE:GREGORIAN
METHOD:PUBLISH
X-WR-CALNAME:Goldcrest Nature Tours
X-ORIGINAL-URL:https://goldcrestnaturetours.nl
X-WR-CALDESC:Evenementen voor Goldcrest Nature Tours
REFRESH-INTERVAL;VALUE=DURATION:PT1H
X-Robots-Tag:noindex
X-PUBLISHED-TTL:PT1H
BEGIN:VTIMEZONE
TZID:Europe/Amsterdam
BEGIN:DAYLIGHT
TZOFFSETFROM:+0100
TZOFFSETTO:+0200
TZNAME:CEST
DTSTART:20250330T010000
END:DAYLIGHT
BEGIN:STANDARD
TZOFFSETFROM:+0200
TZOFFSETTO:+0100
TZNAME:CET
DTSTART:20251026T010000
END:STANDARD
BEGIN:DAYLIGHT
TZOFFSETFROM:+0100
TZOFFSETTO:+0200
TZNAME:CEST
DTSTART:20260329T010000
END:DAYLIGHT
BEGIN:STANDARD
TZOFFSETFROM:+0200
TZOFFSETTO:+0100
TZNAME:CET
DTSTART:20261025T010000
END:STANDARD
BEGIN:DAYLIGHT
TZOFFSETFROM:+0100
TZOFFSETTO:+0200
TZNAME:CEST
DTSTART:20270328T010000
END:DAYLIGHT
BEGIN:STANDARD
TZOFFSETFROM:+0200
TZOFFSETTO:+0100
TZNAME:CET
DTSTART:20271031T010000
END:STANDARD
END:VTIMEZONE
BEGIN:VEVENT
DTSTART;TZID=Europe/Amsterdam:20260416T080000
DTEND;TZID=Europe/Amsterdam:20260423T170000
DTSTAMP:20260424T105743
CREATED:20251002T155044Z
LAST-MODIFIED:20251002T155045Z
UID:9295-1776326400-1776963600@goldcrestnaturetours.nl
SUMMARY:Orchideeën van Gargano-Italië
DESCRIPTION:De Gargano\, het spectaculaire kalkstenen schiereiland aan de Adriatische Zee\, staat bekend als een van de mooiste plekken van Europa voor het bewonderen van wilde orchideeën. Elk voorjaar veranderen de berghellingen\, graslanden en bossen van dit Zuid-Italiaanse natuurgebied in een waar bloemenparadijs. Tijdens deze reis gaan we op zoek naar de wilde orchideeën in de Gargano\, onder begeleiding van plantenkenner en orchideeënspecialist Mark Meijrink.
URL:https://goldcrestnaturetours.nl/event/orchideeen-van-gargano-italie/
LOCATION:Schiphol\, Amsterdam\, Nederland
ATTACH;FMTTYPE=image/jpeg:https://goldcrestnaturetours.nl/wp-content/uploads/2025/07/Wilde-orchideeen-in-de-Gargano-Ophrys-garganica.jpg
END:VEVENT
END:VCALENDAR