BEGIN:VCALENDAR
VERSION:2.0
PRODID:-//Goldcrest Nature Tours - ECPv6.15.20//NONSGML v1.0//EN
CALSCALE:GREGORIAN
METHOD:PUBLISH
X-ORIGINAL-URL:https://goldcrestnaturetours.nl
X-WR-CALDESC:Evenementen voor Goldcrest Nature Tours
REFRESH-INTERVAL;VALUE=DURATION:PT1H
X-Robots-Tag:noindex
X-PUBLISHED-TTL:PT1H
BEGIN:VTIMEZONE
TZID:Europe/Amsterdam
BEGIN:DAYLIGHT
TZOFFSETFROM:+0100
TZOFFSETTO:+0200
TZNAME:CEST
DTSTART:20250330T010000
END:DAYLIGHT
BEGIN:STANDARD
TZOFFSETFROM:+0200
TZOFFSETTO:+0100
TZNAME:CET
DTSTART:20251026T010000
END:STANDARD
BEGIN:DAYLIGHT
TZOFFSETFROM:+0100
TZOFFSETTO:+0200
TZNAME:CEST
DTSTART:20260329T010000
END:DAYLIGHT
BEGIN:STANDARD
TZOFFSETFROM:+0200
TZOFFSETTO:+0100
TZNAME:CET
DTSTART:20261025T010000
END:STANDARD
BEGIN:DAYLIGHT
TZOFFSETFROM:+0100
TZOFFSETTO:+0200
TZNAME:CEST
DTSTART:20270328T010000
END:DAYLIGHT
BEGIN:STANDARD
TZOFFSETFROM:+0200
TZOFFSETTO:+0100
TZNAME:CET
DTSTART:20271031T010000
END:STANDARD
END:VTIMEZONE
BEGIN:VEVENT
DTSTART;TZID=Europe/Amsterdam:20260411T090000
DTEND;TZID=Europe/Amsterdam:20260411T130000
DTSTAMP:20260424T104304
CREATED:20251128T184631Z
LAST-MODIFIED:20251128T184633Z
UID:9659-1775898000-1775912400@goldcrestnaturetours.nl
SUMMARY:Spechten in de bossen van de Kampina
DESCRIPTION:Ontdek de stille pracht van de Kampina in het prille voorjaar tijdens onze speciale spechten- en bosvogelexcursie. Deze wandeling staat in het teken van bossen\, geluiden en vooral: spechten. Samen met een ervaren vogelgids gaan we op zoek naar bijzondere soorten als de Zwarte specht\, Groene specht\, Grote\, Middelste en Kleine bonte specht\, maar eveneens naar karakteristieke bosvogels zoals de Kuifmees en Appelvink. \n\n\n\nOf je nu een beginnende-\, een ervaren vogelaar bent of gewoon wilt genieten van de rust en schoonheid van de natuur\, een excursie Spechten en bosvogels in de Kampina is genieten. Laat je inspireren door dit bijzondere landschap en de vele vogels van dit unieke stukje Nederland. Ga met ons mee en ontdek de geheimen van de Kampina!
URL:https://goldcrestnaturetours.nl/event/spechten-in-de-bossen-van-de-kampina/
LOCATION:Nog nader te bepalen\, Ridderstraat 5\, Heenvliet\, 3218 VR\, Netherlands
ATTACH;FMTTYPE=image/jpeg:https://goldcrestnaturetours.nl/wp-content/uploads/2025/10/Zwarte-mees.jpg
END:VEVENT
END:VCALENDAR