BEGIN:VCALENDAR
VERSION:2.0
PRODID:-//Goldcrest Nature Tours - ECPv6.15.20//NONSGML v1.0//EN
CALSCALE:GREGORIAN
METHOD:PUBLISH
X-ORIGINAL-URL:https://goldcrestnaturetours.nl
X-WR-CALDESC:Evenementen voor Goldcrest Nature Tours
REFRESH-INTERVAL;VALUE=DURATION:PT1H
X-Robots-Tag:noindex
X-PUBLISHED-TTL:PT1H
BEGIN:VTIMEZONE
TZID:Europe/Amsterdam
BEGIN:DAYLIGHT
TZOFFSETFROM:+0100
TZOFFSETTO:+0200
TZNAME:CEST
DTSTART:20250330T010000
END:DAYLIGHT
BEGIN:STANDARD
TZOFFSETFROM:+0200
TZOFFSETTO:+0100
TZNAME:CET
DTSTART:20251026T010000
END:STANDARD
BEGIN:DAYLIGHT
TZOFFSETFROM:+0100
TZOFFSETTO:+0200
TZNAME:CEST
DTSTART:20260329T010000
END:DAYLIGHT
BEGIN:STANDARD
TZOFFSETFROM:+0200
TZOFFSETTO:+0100
TZNAME:CET
DTSTART:20261025T010000
END:STANDARD
BEGIN:DAYLIGHT
TZOFFSETFROM:+0100
TZOFFSETTO:+0200
TZNAME:CEST
DTSTART:20270328T010000
END:DAYLIGHT
BEGIN:STANDARD
TZOFFSETFROM:+0200
TZOFFSETTO:+0100
TZNAME:CET
DTSTART:20271031T010000
END:STANDARD
END:VTIMEZONE
BEGIN:VEVENT
DTSTART;TZID=Europe/Amsterdam:20260327T080000
DTEND;TZID=Europe/Amsterdam:20260329T170000
DTSTAMP:20260424T122832
CREATED:20250930T155720Z
LAST-MODIFIED:20250930T155721Z
UID:9276-1774598400-1774803600@goldcrestnaturetours.nl
SUMMARY:Natuurweekend Belgische Ardennen
DESCRIPTION:Voorjaar in de Belgische Ardennen \n\n\n\n✓ Een driedaagse vol optimale natuurbeleving in het vroege voorjaar✓ Kans op Visarend\, Rode Wouw en Zwarte Ooievaar✓ Avondexcursie met warmtebeeldkijker voor het ontdekken van zoogdieren✓ Kans op uilen zoals Dwerg uil\, Ruigpootuil en Oehoe✓ Prijs inclusief met vervoer vanuit NL\, verblijf en maaltijden
URL:https://goldcrestnaturetours.nl/event/natuurweekend-belgische-ardennen/
LOCATION:P&R Genneper parken\, Aalsterweg 316\, Eindhoven\, 5644 RL
ATTACH;FMTTYPE=image/jpeg:https://goldcrestnaturetours.nl/wp-content/uploads/2025/09/Waterspreeuw.jpg
END:VEVENT
END:VCALENDAR