BEGIN:VCALENDAR
VERSION:2.0
PRODID:-//Goldcrest Nature Tours - ECPv6.15.20//NONSGML v1.0//EN
CALSCALE:GREGORIAN
METHOD:PUBLISH
X-WR-CALNAME:Goldcrest Nature Tours
X-ORIGINAL-URL:https://goldcrestnaturetours.nl
X-WR-CALDESC:Evenementen voor Goldcrest Nature Tours
REFRESH-INTERVAL;VALUE=DURATION:PT1H
X-Robots-Tag:noindex
X-PUBLISHED-TTL:PT1H
BEGIN:VTIMEZONE
TZID:Europe/Amsterdam
BEGIN:DAYLIGHT
TZOFFSETFROM:+0100
TZOFFSETTO:+0200
TZNAME:CEST
DTSTART:20250330T010000
END:DAYLIGHT
BEGIN:STANDARD
TZOFFSETFROM:+0200
TZOFFSETTO:+0100
TZNAME:CET
DTSTART:20251026T010000
END:STANDARD
BEGIN:DAYLIGHT
TZOFFSETFROM:+0100
TZOFFSETTO:+0200
TZNAME:CEST
DTSTART:20260329T010000
END:DAYLIGHT
BEGIN:STANDARD
TZOFFSETFROM:+0200
TZOFFSETTO:+0100
TZNAME:CET
DTSTART:20261025T010000
END:STANDARD
BEGIN:DAYLIGHT
TZOFFSETFROM:+0100
TZOFFSETTO:+0200
TZNAME:CEST
DTSTART:20270328T010000
END:DAYLIGHT
BEGIN:STANDARD
TZOFFSETFROM:+0200
TZOFFSETTO:+0100
TZNAME:CET
DTSTART:20271031T010000
END:STANDARD
END:VTIMEZONE
BEGIN:VEVENT
DTSTART;TZID=Europe/Amsterdam:20260214T090000
DTEND;TZID=Europe/Amsterdam:20260214T153000
DTSTAMP:20260424T134424
CREATED:20250916T134439Z
LAST-MODIFIED:20250916T134441Z
UID:5992-1771059600-1771083000@goldcrestnaturetours.nl
SUMMARY:Vogels kijken in de Delta
DESCRIPTION:Vogels kijken in de Zuid-Hollandse en Zeeuwse Delta\n\n\n\n✓ Dag excursie van 9:00 tot 15:30 uur✓ We bezoeken de vogelrijke gebieden van de Delta✓ Kans op IJsduiker\, Zwarte zeekoet en Zeearend✓ Grote groepen ganzen en steltlopers✓ Begeleiding van een enthousiaste en ervaren natuurgids en vogelaar✓ Vervoer met een minibus
URL:https://goldcrestnaturetours.nl/event/vogels-kijken-in-de-delta/
LOCATION:Parkeerplaats Haven Stellendam\, meester Snijderweg\, Stellendam
CATEGORIES:dagexcursie,Vogelexcursie
ATTACH;FMTTYPE=image/jpeg:https://goldcrestnaturetours.nl/wp-content/uploads/2020/10/drieteenstr-vlucht-1-scaled-e1696444512908.jpg
END:VEVENT
END:VCALENDAR