BEGIN:VCALENDAR
VERSION:2.0
PRODID:-//Goldcrest Nature Tours - ECPv6.15.20//NONSGML v1.0//EN
CALSCALE:GREGORIAN
METHOD:PUBLISH
X-ORIGINAL-URL:https://goldcrestnaturetours.nl
X-WR-CALDESC:Evenementen voor Goldcrest Nature Tours
REFRESH-INTERVAL;VALUE=DURATION:PT1H
X-Robots-Tag:noindex
X-PUBLISHED-TTL:PT1H
BEGIN:VTIMEZONE
TZID:Europe/Amsterdam
BEGIN:DAYLIGHT
TZOFFSETFROM:+0100
TZOFFSETTO:+0200
TZNAME:CEST
DTSTART:20240331T010000
END:DAYLIGHT
BEGIN:STANDARD
TZOFFSETFROM:+0200
TZOFFSETTO:+0100
TZNAME:CET
DTSTART:20241027T010000
END:STANDARD
BEGIN:DAYLIGHT
TZOFFSETFROM:+0100
TZOFFSETTO:+0200
TZNAME:CEST
DTSTART:20250330T010000
END:DAYLIGHT
BEGIN:STANDARD
TZOFFSETFROM:+0200
TZOFFSETTO:+0100
TZNAME:CET
DTSTART:20251026T010000
END:STANDARD
BEGIN:DAYLIGHT
TZOFFSETFROM:+0100
TZOFFSETTO:+0200
TZNAME:CEST
DTSTART:20260329T010000
END:DAYLIGHT
BEGIN:STANDARD
TZOFFSETFROM:+0200
TZOFFSETTO:+0100
TZNAME:CET
DTSTART:20261025T010000
END:STANDARD
END:VTIMEZONE
BEGIN:VEVENT
DTSTART;TZID=Europe/Amsterdam:20251229T090000
DTEND;TZID=Europe/Amsterdam:20251229T160000
DTSTAMP:20260424T151540
CREATED:20231004T185116Z
LAST-MODIFIED:20251120T164114Z
UID:5996-1766998800-1767024000@goldcrestnaturetours.nl
SUMMARY:Vogelexcursie op Goeree-Overflakkee
DESCRIPTION:Ontdek de wintervogels met een vogelaar\n\n\n\n✓ Strand- en duinwandeling✓ Onder begeleiding van een ervaren vogelaar/gids✓ Kans op het “kwartet” IJsgors\, Sneeuwgors\, Frater en strandleeuwerik✓ Roofvogels als Blauwe kiekendief\, Zeearend en Smelleken✓ Steltlopers en meeuwen✓ Goede fotografische mogelijkheden✓ Bijdrage aan natuurbehoud via Natuurmonumenten
URL:https://goldcrestnaturetours.nl/event/vogelexcursie-op-goeree-winter-2/
LOCATION:Nog nader te bepalen\, Ridderstraat 5\, Heenvliet\, 3218 VR\, Netherlands
CATEGORIES:dagexcursie,Vogelexcursie
ATTACH;FMTTYPE=image/jpeg:https://goldcrestnaturetours.nl/wp-content/uploads/2021/10/ijsvogel-loerend-naar-een-visje-e1635013904929.jpg
END:VEVENT
END:VCALENDAR