BEGIN:VCALENDAR
VERSION:2.0
PRODID:-//Goldcrest Nature Tours - ECPv6.15.20//NONSGML v1.0//EN
CALSCALE:GREGORIAN
METHOD:PUBLISH
X-WR-CALNAME:Goldcrest Nature Tours
X-ORIGINAL-URL:https://goldcrestnaturetours.nl
X-WR-CALDESC:Evenementen voor Goldcrest Nature Tours
REFRESH-INTERVAL;VALUE=DURATION:PT1H
X-Robots-Tag:noindex
X-PUBLISHED-TTL:PT1H
BEGIN:VTIMEZONE
TZID:Europe/Amsterdam
BEGIN:DAYLIGHT
TZOFFSETFROM:+0100
TZOFFSETTO:+0200
TZNAME:CEST
DTSTART:20240331T010000
END:DAYLIGHT
BEGIN:STANDARD
TZOFFSETFROM:+0200
TZOFFSETTO:+0100
TZNAME:CET
DTSTART:20241027T010000
END:STANDARD
BEGIN:DAYLIGHT
TZOFFSETFROM:+0100
TZOFFSETTO:+0200
TZNAME:CEST
DTSTART:20250330T010000
END:DAYLIGHT
BEGIN:STANDARD
TZOFFSETFROM:+0200
TZOFFSETTO:+0100
TZNAME:CET
DTSTART:20251026T010000
END:STANDARD
BEGIN:DAYLIGHT
TZOFFSETFROM:+0100
TZOFFSETTO:+0200
TZNAME:CEST
DTSTART:20260329T010000
END:DAYLIGHT
BEGIN:STANDARD
TZOFFSETFROM:+0200
TZOFFSETTO:+0100
TZNAME:CET
DTSTART:20261025T010000
END:STANDARD
END:VTIMEZONE
BEGIN:VEVENT
DTSTART;TZID=Europe/Amsterdam:20251001T080000
DTEND;TZID=Europe/Amsterdam:20251001T150000
DTSTAMP:20260424T210514
CREATED:20250314T121516Z
LAST-MODIFIED:20250314T121520Z
UID:8687-1759305600-1759330800@goldcrestnaturetours.nl
SUMMARY:Natuursafari op de Veluwe
DESCRIPTION:Natuursafari in eigen land op de Veluwe\n\n\n\nHoud je van een heerlijke boswandeling met het geluid van vogels en het speuren naar wild en hun sporen? Dan is deze dagexcursie echt wat voor jou. Je gaat op pad met een ervaren natuurgids die jou de mooie natuur van de Veluwe laten beleven. \n\n\n\nIn het najaar gaan we struinen door de uitgestrekte natuur van de Noord-Veluwe. We maken een boswandeling\, en een wandeling over de heide. Vroeg in de ochtend maken we grote kans op het spotten van zoogdieren. En de vogels van het bos laten van zich horen. Soorten als de Zwarte specht\, Kuifmees en Appelvink willen we jou natuurlijk graag laten zien. Op de heide zoeken we naar de laatste actieve insecten en spinnen (najaar). Als het een vochtig genoeg is zullen we ook veel soorten paddenstoelen tegen komen. Een dag waarin we diverse gebieden bezoeken met elk zijn eigen natuurwaarnemingen.
URL:https://goldcrestnaturetours.nl/event/natuursafari-op-de-veluwe/
ATTACH;FMTTYPE=image/jpeg:https://goldcrestnaturetours.nl/wp-content/uploads/2025/03/Rode-eekhoorn.jpg
END:VEVENT
END:VCALENDAR