BEGIN:VCALENDAR
VERSION:2.0
PRODID:-//Goldcrest Nature Tours - ECPv6.15.20//NONSGML v1.0//EN
CALSCALE:GREGORIAN
METHOD:PUBLISH
X-WR-CALNAME:Goldcrest Nature Tours
X-ORIGINAL-URL:https://goldcrestnaturetours.nl
X-WR-CALDESC:Evenementen voor Goldcrest Nature Tours
REFRESH-INTERVAL;VALUE=DURATION:PT1H
X-Robots-Tag:noindex
X-PUBLISHED-TTL:PT1H
BEGIN:VTIMEZONE
TZID:Europe/Amsterdam
BEGIN:DAYLIGHT
TZOFFSETFROM:+0100
TZOFFSETTO:+0200
TZNAME:CEST
DTSTART:20240331T010000
END:DAYLIGHT
BEGIN:STANDARD
TZOFFSETFROM:+0200
TZOFFSETTO:+0100
TZNAME:CET
DTSTART:20241027T010000
END:STANDARD
BEGIN:DAYLIGHT
TZOFFSETFROM:+0100
TZOFFSETTO:+0200
TZNAME:CEST
DTSTART:20250330T010000
END:DAYLIGHT
BEGIN:STANDARD
TZOFFSETFROM:+0200
TZOFFSETTO:+0100
TZNAME:CET
DTSTART:20251026T010000
END:STANDARD
BEGIN:DAYLIGHT
TZOFFSETFROM:+0100
TZOFFSETTO:+0200
TZNAME:CEST
DTSTART:20260329T010000
END:DAYLIGHT
BEGIN:STANDARD
TZOFFSETFROM:+0200
TZOFFSETTO:+0100
TZNAME:CET
DTSTART:20261025T010000
END:STANDARD
END:VTIMEZONE
BEGIN:VEVENT
DTSTART;TZID=Europe/Amsterdam:20250815T100000
DTEND;TZID=Europe/Amsterdam:20250815T140000
DTSTAMP:20260424T223757
CREATED:20250314T114849Z
LAST-MODIFIED:20250802T150918Z
UID:8680-1755252000-1755266400@goldcrestnaturetours.nl
SUMMARY:Zomerse libellen - Jan Katsman
DESCRIPTION:Zomerse Libellenexcursie Leersumse Veld met Jan Katsman\n\n\n\nAugustus is de zomermaand bij uitstek om op zoek te gaan naar libellen en juffers. Een fantastische plek daarvoor is het Leersumse Veld in de provincie Utrecht. Samen met libellenexpert en schrijver van het fotoboek “Libellen van Nederland” Jan Katsman\, ga je op zoek naar de zomerse soorten. Jan Katsman is een ervaren libellenexcursie leider en is wekelijks in het Leersumse Veld te vinden. Jan zal de kenmerken en de leefwijze bespreken van de soorten die je gaat tegenkomen tijdens de excursie Zomerse Libellen en Juffers – Leersumse Veld.
URL:https://goldcrestnaturetours.nl/event/zomerse-libellen-jan-katsman/
LOCATION:Leersumse Veld\, Maarsbergseweg 18a\, Leersum\, Utrecht\, 3956KW\, Netherlands
ATTACH;FMTTYPE=image/jpeg:https://goldcrestnaturetours.nl/wp-content/uploads/2025/03/Grote-keizerlibel-Jan-Katsman.jpg
END:VEVENT
END:VCALENDAR