BEGIN:VCALENDAR
VERSION:2.0
PRODID:-//Goldcrest Nature Tours - ECPv6.15.20//NONSGML v1.0//EN
CALSCALE:GREGORIAN
METHOD:PUBLISH
X-WR-CALNAME:Goldcrest Nature Tours
X-ORIGINAL-URL:https://goldcrestnaturetours.nl
X-WR-CALDESC:Evenementen voor Goldcrest Nature Tours
REFRESH-INTERVAL;VALUE=DURATION:PT1H
X-Robots-Tag:noindex
X-PUBLISHED-TTL:PT1H
BEGIN:VTIMEZONE
TZID:Europe/Amsterdam
BEGIN:DAYLIGHT
TZOFFSETFROM:+0100
TZOFFSETTO:+0200
TZNAME:CEST
DTSTART:20240331T010000
END:DAYLIGHT
BEGIN:STANDARD
TZOFFSETFROM:+0200
TZOFFSETTO:+0100
TZNAME:CET
DTSTART:20241027T010000
END:STANDARD
BEGIN:DAYLIGHT
TZOFFSETFROM:+0100
TZOFFSETTO:+0200
TZNAME:CEST
DTSTART:20250330T010000
END:DAYLIGHT
BEGIN:STANDARD
TZOFFSETFROM:+0200
TZOFFSETTO:+0100
TZNAME:CET
DTSTART:20251026T010000
END:STANDARD
BEGIN:DAYLIGHT
TZOFFSETFROM:+0100
TZOFFSETTO:+0200
TZNAME:CEST
DTSTART:20260329T010000
END:DAYLIGHT
BEGIN:STANDARD
TZOFFSETFROM:+0200
TZOFFSETTO:+0100
TZNAME:CET
DTSTART:20261025T010000
END:STANDARD
END:VTIMEZONE
BEGIN:VEVENT
DTSTART;TZID=Europe/Amsterdam:20250612T080000
DTEND;TZID=Europe/Amsterdam:20250614T170000
DTSTAMP:20260425T014352
CREATED:20231009T135300Z
LAST-MODIFIED:20240610T113337Z
UID:6032-1749715200-1749920400@goldcrestnaturetours.nl
SUMMARY:Vlinderen in de Viroinvallei
DESCRIPTION:Drie dagen vlinders en orchideeën kijken en fotograferen in Zuidoost-België\n\n\n\n✓ Een voorjaar en een zomer editie✓ Bloemweides en kalkgraslanden✓ Grillige rotsformaties van de Calestienne✓ Van de grote Weerschijnvlinder tot het Kalkgraslanddikkopje✓ Hondskruid\, Poppenorchis en Hommelorchis✓ Enthousiaste en ervaren gidsen✓ Kleine groep ⇒ veel persoonlijke aandacht \n\n\n\nDatum:12 t/m 14 juni 2025voorjaareditie
URL:https://goldcrestnaturetours.nl/event/vlinderen-in-de-viroinvallei/
CATEGORIES:Meerdaagse tour,Vlinderreizen
ATTACH;FMTTYPE=image/jpeg:https://goldcrestnaturetours.nl/wp-content/uploads/2023/10/Groot-geaderd-witje.jpg
END:VEVENT
END:VCALENDAR