BEGIN:VCALENDAR
VERSION:2.0
PRODID:-//Goldcrest Nature Tours - ECPv6.15.20//NONSGML v1.0//EN
CALSCALE:GREGORIAN
METHOD:PUBLISH
X-WR-CALNAME:Goldcrest Nature Tours
X-ORIGINAL-URL:https://goldcrestnaturetours.nl
X-WR-CALDESC:Evenementen voor Goldcrest Nature Tours
REFRESH-INTERVAL;VALUE=DURATION:PT1H
X-Robots-Tag:noindex
X-PUBLISHED-TTL:PT1H
BEGIN:VTIMEZONE
TZID:Europe/Amsterdam
BEGIN:DAYLIGHT
TZOFFSETFROM:+0100
TZOFFSETTO:+0200
TZNAME:CEST
DTSTART:20240331T010000
END:DAYLIGHT
BEGIN:STANDARD
TZOFFSETFROM:+0200
TZOFFSETTO:+0100
TZNAME:CET
DTSTART:20241027T010000
END:STANDARD
BEGIN:DAYLIGHT
TZOFFSETFROM:+0100
TZOFFSETTO:+0200
TZNAME:CEST
DTSTART:20250330T010000
END:DAYLIGHT
BEGIN:STANDARD
TZOFFSETFROM:+0200
TZOFFSETTO:+0100
TZNAME:CET
DTSTART:20251026T010000
END:STANDARD
BEGIN:DAYLIGHT
TZOFFSETFROM:+0100
TZOFFSETTO:+0200
TZNAME:CEST
DTSTART:20260329T010000
END:DAYLIGHT
BEGIN:STANDARD
TZOFFSETFROM:+0200
TZOFFSETTO:+0100
TZNAME:CET
DTSTART:20261025T010000
END:STANDARD
END:VTIMEZONE
BEGIN:VEVENT
DTSTART;TZID=Europe/Amsterdam:20250524T080000
DTEND;TZID=Europe/Amsterdam:20250524T120000
DTSTAMP:20260425T032317
CREATED:20221130T171511Z
LAST-MODIFIED:20250313T152707Z
UID:5143-1748073600-1748088000@goldcrestnaturetours.nl
SUMMARY:Ontdek de vogels in het Voornes Duin
DESCRIPTION:Wat gaan we doen?\n\n\n\nSamen met Yannick \, een enthousiast vogelaar ga je de vogels ontdekken in het Voornes Duin. Gelegen op het Zuid-Hollandse eiland Voorne Putten is dit duingebied een van de rijkste van Europa. We maken een mooie ochtendwandeling waarbij we langs dé locaties lopen om veel vogelsoorten waar te nemen. Je krijgt veel interessante informatie over vogels en hun gedrag. Leuk voor iedereen die geïnteresseerd is in vogels\, of er nog méér over wil weten. \n\n\n\nWandeling in het Voornes Duin\n\n\n\nDe diversiteit in biotopen brengt vele soorten planten\, vogels en andere dieren met zich mee. Er is bos\, struweel\, zandduin en meerdere vochtige duinvalleien. In Voornes Duin word geen drinkwater gewonnen waardoor die natte duinvalleien blijven bestaan\, een zeer zeldzaam biotoop. Samenwerking tussen het Zuid-Hollands Landschap en Natuurmonumenten houden de natuurwaarde van dit gebied op peil\, en verbeteren het waar dit mogelijk is. Wist je trouwens dat je bijdraagt aan dit natuurbehoud\, met jouw deelname? \n\n\n\nVogels kijken met een ervaren vogelaar\n\n\n\n✓ Ochtendwandeling in een bijzonder rijk duingebied✓ Leer van een ervaren lokale vogelaar✓ Kans op Wespendief\, Wielewaal en Geoorde fuut✓ Veel natuurbeleving✓ Kleine groep ⇒veel aandacht
URL:https://goldcrestnaturetours.nl/event/ontdek-de-vogels-in-het-voornes-duin/
LOCATION:Parkeerplaats Kreekpad\, Kreekpad 1\, Rockanje\, Nederland
CATEGORIES:dagexcursie,Vogelexcursie
ATTACH;FMTTYPE=image/jpeg:https://goldcrestnaturetours.nl/wp-content/uploads/2022/11/Geoorde-fuut.jpg
END:VEVENT
END:VCALENDAR