BEGIN:VCALENDAR
VERSION:2.0
PRODID:-//Goldcrest Nature Tours - ECPv6.15.20//NONSGML v1.0//EN
CALSCALE:GREGORIAN
METHOD:PUBLISH
X-ORIGINAL-URL:https://goldcrestnaturetours.nl
X-WR-CALDESC:Evenementen voor Goldcrest Nature Tours
REFRESH-INTERVAL;VALUE=DURATION:PT1H
X-Robots-Tag:noindex
X-PUBLISHED-TTL:PT1H
BEGIN:VTIMEZONE
TZID:Europe/Amsterdam
BEGIN:DAYLIGHT
TZOFFSETFROM:+0100
TZOFFSETTO:+0200
TZNAME:CEST
DTSTART:20240331T010000
END:DAYLIGHT
BEGIN:STANDARD
TZOFFSETFROM:+0200
TZOFFSETTO:+0100
TZNAME:CET
DTSTART:20241027T010000
END:STANDARD
BEGIN:DAYLIGHT
TZOFFSETFROM:+0100
TZOFFSETTO:+0200
TZNAME:CEST
DTSTART:20250330T010000
END:DAYLIGHT
BEGIN:STANDARD
TZOFFSETFROM:+0200
TZOFFSETTO:+0100
TZNAME:CET
DTSTART:20251026T010000
END:STANDARD
BEGIN:DAYLIGHT
TZOFFSETFROM:+0100
TZOFFSETTO:+0200
TZNAME:CEST
DTSTART:20260329T010000
END:DAYLIGHT
BEGIN:STANDARD
TZOFFSETFROM:+0200
TZOFFSETTO:+0100
TZNAME:CET
DTSTART:20261025T010000
END:STANDARD
END:VTIMEZONE
BEGIN:VEVENT
DTSTART;TZID=Europe/Amsterdam:20250510T080000
DTEND;TZID=Europe/Amsterdam:20250510T160000
DTSTAMP:20260425T032357
CREATED:20231009T142609Z
LAST-MODIFIED:20240828T135909Z
UID:6044-1746864000-1746892800@goldcrestnaturetours.nl
SUMMARY:Varen in het domein van de Zeearend
DESCRIPTION:Wat gaan we doen? Een vogelexcursie op het Haringvliet\n\n\n\nDeze vogelexcursie gaan we een hele dag varen op het Haringvliet. Zo varen we langs alle interessante vogelplekken van deze zoete rivierarm. Hoofddoel van deze dag is het waarnemen van de Zeearend. Uw ervaren natuurgidsen zijn gespecialiseerd in het ontdekken van de vele vogelsoorten die er op en rond het Haringvliet te vinden zijn. Met de extra informatie en leuke weetjes op vogelgebied vergroot u óók nog eens uw kennis. Voor liefhebbers van natuur- en vogelfotografie zijn er genoeg fraaie onderwerpen om de lens op te richten. Een complete natuur dag op het water van het Haringvliet inclusief een heerlijke lunch! Deze vogelexcursie in het domein van de Zeearend is geschikt vóór iedereen met een hart voor de natuur en interesse voor vogels. \n\n\n\n✓ Veel kans op de “vliegende deur” oftewel de Zeearend✓ Broedkolonies van Grote stern\, Lepelaars en Grote zilverreigers✓ Rietvogels als Bosrietzanger\, Snor en Blauwborst✓ Kans op de Roerdomp en de IJsvogel✓ Begeleiding van twee natuurgidsen/ vogelaars✓ Ervaren bemanning van de Linquenda II \n\n\n\nEen hele dag varen op het Haringvliet met het historische schip de Linquenda II\, inclusief koffie/thee\, lunch en een drankje \n\n\n\nBekijk het gehele programma Varen in het domein van de Zeearend
URL:https://goldcrestnaturetours.nl/event/varen-in-het-domein-van-de-zeearend-2/
CATEGORIES:dagexcursie,Vogelexcursie
ATTACH;FMTTYPE=image/jpeg:https://goldcrestnaturetours.nl/wp-content/uploads/2023/10/zeearend-3.jpg
END:VEVENT
END:VCALENDAR