BEGIN:VCALENDAR
VERSION:2.0
PRODID:-//Goldcrest Nature Tours - ECPv6.15.20//NONSGML v1.0//EN
CALSCALE:GREGORIAN
METHOD:PUBLISH
X-ORIGINAL-URL:https://goldcrestnaturetours.nl
X-WR-CALDESC:Evenementen voor Goldcrest Nature Tours
REFRESH-INTERVAL;VALUE=DURATION:PT1H
X-Robots-Tag:noindex
X-PUBLISHED-TTL:PT1H
BEGIN:VTIMEZONE
TZID:Europe/Amsterdam
BEGIN:DAYLIGHT
TZOFFSETFROM:+0100
TZOFFSETTO:+0200
TZNAME:CEST
DTSTART:20240331T010000
END:DAYLIGHT
BEGIN:STANDARD
TZOFFSETFROM:+0200
TZOFFSETTO:+0100
TZNAME:CET
DTSTART:20241027T010000
END:STANDARD
BEGIN:DAYLIGHT
TZOFFSETFROM:+0100
TZOFFSETTO:+0200
TZNAME:CEST
DTSTART:20250330T010000
END:DAYLIGHT
BEGIN:STANDARD
TZOFFSETFROM:+0200
TZOFFSETTO:+0100
TZNAME:CET
DTSTART:20251026T010000
END:STANDARD
BEGIN:DAYLIGHT
TZOFFSETFROM:+0100
TZOFFSETTO:+0200
TZNAME:CEST
DTSTART:20260329T010000
END:DAYLIGHT
BEGIN:STANDARD
TZOFFSETFROM:+0200
TZOFFSETTO:+0100
TZNAME:CET
DTSTART:20261025T010000
END:STANDARD
END:VTIMEZONE
BEGIN:VEVENT
DTSTART;TZID=Europe/Amsterdam:20250503T080000
DTEND;TZID=Europe/Amsterdam:20250503T100000
DTSTAMP:20260425T032438
CREATED:20250314T111512Z
LAST-MODIFIED:20250314T111515Z
UID:8663-1746259200-1746266400@goldcrestnaturetours.nl
SUMMARY:Instap vogelexcursie Bernisse
DESCRIPTION:Instap vogelexcursie Bernisse\n\n\n\nEen instap vogelexcursie in de Bernisse op het eiland Voorne-Putten.  Heb je altijd al meer willen weten over de vogels in jouw eigen omgeving? Dit is je kans om onder begeleiding van een ervaren natuurgids en vogelaar deze vogels te gaan (her)ontdekken. Deze instap vogelexcursie staan de zangvogels en roofvogels centraal. Welke soorten zijn (al) aanwezig en waar houden ze zich mee bezig. Het voorjaar is altijd een drukke en interessante tijd voor vogels\, des te leuker voor ons om van te kunnen leren en genieten. \n\n\n\nWe maken een korte wandeling langs de vogelrijke stukken van de Bernisse.
URL:https://goldcrestnaturetours.nl/event/instap-vogelexcursie-bernisse/
ATTACH;FMTTYPE=image/jpeg:https://goldcrestnaturetours.nl/wp-content/uploads/2025/03/Bruine-kiekendief-met-tak.jpg
END:VEVENT
END:VCALENDAR