BEGIN:VCALENDAR
VERSION:2.0
PRODID:-//Goldcrest Nature Tours - ECPv6.15.20//NONSGML v1.0//EN
CALSCALE:GREGORIAN
METHOD:PUBLISH
X-ORIGINAL-URL:https://goldcrestnaturetours.nl
X-WR-CALDESC:Evenementen voor Goldcrest Nature Tours
REFRESH-INTERVAL;VALUE=DURATION:PT1H
X-Robots-Tag:noindex
X-PUBLISHED-TTL:PT1H
BEGIN:VTIMEZONE
TZID:Europe/Amsterdam
BEGIN:DAYLIGHT
TZOFFSETFROM:+0100
TZOFFSETTO:+0200
TZNAME:CEST
DTSTART:20230326T010000
END:DAYLIGHT
BEGIN:STANDARD
TZOFFSETFROM:+0200
TZOFFSETTO:+0100
TZNAME:CET
DTSTART:20231029T010000
END:STANDARD
BEGIN:DAYLIGHT
TZOFFSETFROM:+0100
TZOFFSETTO:+0200
TZNAME:CEST
DTSTART:20240331T010000
END:DAYLIGHT
BEGIN:STANDARD
TZOFFSETFROM:+0200
TZOFFSETTO:+0100
TZNAME:CET
DTSTART:20241027T010000
END:STANDARD
BEGIN:DAYLIGHT
TZOFFSETFROM:+0100
TZOFFSETTO:+0200
TZNAME:CEST
DTSTART:20250330T010000
END:DAYLIGHT
BEGIN:STANDARD
TZOFFSETFROM:+0200
TZOFFSETTO:+0100
TZNAME:CET
DTSTART:20251026T010000
END:STANDARD
END:VTIMEZONE
BEGIN:VEVENT
DTSTART;TZID=Europe/Amsterdam:20241216T090000
DTEND;TZID=Europe/Amsterdam:20241216T130000
DTSTAMP:20260426T030635
CREATED:20231231T145843Z
LAST-MODIFIED:20241117T111600Z
UID:6600-1734339600-1734354000@goldcrestnaturetours.nl
SUMMARY:Wintervogelexcursie Voornes Duin
DESCRIPTION:Wat gaan we doen?\n\n\n\nSamen met Chris \, een ervaren en enthousiaste lokale vogelaar gaat u op zoek naar de wintervogels in het Voornes Duin. Gelegen op het Zuid-Hollandse eiland Voorne Putten is dit duingebied één van de rijkste van Europa. We maken enkele korte wandelingen waarbij we de beste locaties bezoeken om mooie vogelsoorten waar te nemen. Dit Natura 2000 gebied is van groot belang voor de overwinterende vogels. Er is veel voedsel te vinden waardoor we hier elk jaar een grote aantrekkingskracht hebben op diverse soorten wadvogels\, roofvogels en (kleine) zangvogels.
URL:https://goldcrestnaturetours.nl/event/wintervogelexcursie-voornes-duin-3/
CATEGORIES:dagexcursie,Vogelexcursie
ATTACH;FMTTYPE=image/jpeg:https://goldcrestnaturetours.nl/wp-content/uploads/2023/12/Wulp-zet-landing-in.jpg
END:VEVENT
END:VCALENDAR