BEGIN:VCALENDAR
VERSION:2.0
PRODID:-//Goldcrest Nature Tours - ECPv6.15.20//NONSGML v1.0//EN
CALSCALE:GREGORIAN
METHOD:PUBLISH
X-ORIGINAL-URL:https://goldcrestnaturetours.nl
X-WR-CALDESC:Evenementen voor Goldcrest Nature Tours
REFRESH-INTERVAL;VALUE=DURATION:PT1H
X-Robots-Tag:noindex
X-PUBLISHED-TTL:PT1H
BEGIN:VTIMEZONE
TZID:Europe/Amsterdam
BEGIN:DAYLIGHT
TZOFFSETFROM:+0100
TZOFFSETTO:+0200
TZNAME:CEST
DTSTART:20230326T010000
END:DAYLIGHT
BEGIN:STANDARD
TZOFFSETFROM:+0200
TZOFFSETTO:+0100
TZNAME:CET
DTSTART:20231029T010000
END:STANDARD
BEGIN:DAYLIGHT
TZOFFSETFROM:+0100
TZOFFSETTO:+0200
TZNAME:CEST
DTSTART:20240331T010000
END:DAYLIGHT
BEGIN:STANDARD
TZOFFSETFROM:+0200
TZOFFSETTO:+0100
TZNAME:CET
DTSTART:20241027T010000
END:STANDARD
BEGIN:DAYLIGHT
TZOFFSETFROM:+0100
TZOFFSETTO:+0200
TZNAME:CEST
DTSTART:20250330T010000
END:DAYLIGHT
BEGIN:STANDARD
TZOFFSETFROM:+0200
TZOFFSETTO:+0100
TZNAME:CET
DTSTART:20251026T010000
END:STANDARD
END:VTIMEZONE
BEGIN:VEVENT
DTSTART;TZID=Europe/Amsterdam:20241122T200000
DTEND;TZID=Europe/Amsterdam:20241122T210000
DTSTAMP:20260426T053936
CREATED:20241029T164824Z
LAST-MODIFIED:20241029T164829Z
UID:7279-1732305600-1732309200@goldcrestnaturetours.nl
SUMMARY:Reispresentatie Expeditiecruise 2025/2026
DESCRIPTION:Benieuwd naar onze Expeditiecruises in 2025 en 2026? Bekijk dan onze gratis online Reispresentatie Expeditiecruises 2025/2026. Chris en Annemieke vertellen je graag over de beste Expeditiecruises naar de Arctic. Ook over de Expeditiecruise naar Spitsbergen die ze met een eigen groep gaan maken in 2026. Mis het niet\, schrijf je in en ontvang een persoonlijke deelname link
URL:https://goldcrestnaturetours.nl/event/reispresentatie-expeditiecruise-2025-2026/
END:VEVENT
END:VCALENDAR